BEGIN:VCALENDAR
VERSION:2.0
PRODID:-//ChamberMaster//Event Calendar 2.0//EN
METHOD:PUBLISH
X-PUBLISHED-TTL:P3D
REFRESH-INTERVAL:P3D
CALSCALE:GREGORIAN
BEGIN:VEVENT
DTSTART:20221006T003000Z
DTEND:20221006T034500Z
X-MICROSOFT-CDO-ALLDAYEVENT:FALSE
SUMMARY:13th Annual Salute to Local Heroes & Installation Dinner
DESCRIPTION:FOR FULL EVENT DETAILS AND TO PURCHASE TICKETS\, VISIT: SALUTE.LAMESACHAMBER.COM\n\n\n\nSave the date and join us in this celebration that honors and recognizes those first responders from our La Mesa police\, fire\, paramedics\, and our Retired Senior Volunteer Patrol. During this evening we shall also install our Board of Directors.\n\n\n\nDate: Wednesday\, October 5\, 2022\n\n\n\nTime: 5:30   8:45 p.m.\n\n\n\nTicket Pricing:\n\nTBA\n\n\n\nComplimentary Valet parking included\n\n\n\nAll reservations will be held at the door\n\n\n\nFor details: Call 619-465-7700 or email rsvp@lamesachamber.com
X-ALT-DESC;FMTTYPE=text/html:<strong><span style="font-size:16px\;">FOR FULL EVENT DETAILS AND TO PURCHASE TICKETS\, VISIT:&nbsp\;<a href="http://SALUTE.LAMESACHAMBER.COM">SALUTE.LAMESACHAMBER.COM</a></span></strong><br />\n<br />\nSave the date and join us in this celebration that honors and recognizes those first responders from our La Mesa police\, fire\, paramedics\, and our Retired Senior Volunteer Patrol. During this evening we shall also install our Board of Directors.<br />\n<br />\nDate: Wednesday\, October 5\, 2022<br />\n<br />\nTime: 5:30 &ndash\; 8:45 p.m.<br />\n<br />\nTicket Pricing:<br />\nTBA<br />\n<br />\nComplimentary Valet parking included<br />\n<br />\nAll reservations will be held at the door<br />\n<br />\nFor details: Call 619-465-7700 or email <a href="mailto:rsvp@lamesachamber.com">rsvp@lamesachamber.com</a>
LOCATION:Sycuan Casino Resort 5485 Casino Way\, El Cajon\, CA 92019 Wachena Ballroom
UID:e.460.3151
SEQUENCE:3
DTSTAMP:20260420T035118Z
URL:https://chamber.lamesachamber.net/events/details/13th-annual-salute-to-local-heroes-installation-dinner-3151
END:VEVENT

END:VCALENDAR
