BEGIN:VCALENDAR
VERSION:2.0
PRODID:-//ChamberMaster//Event Calendar 2.0//EN
METHOD:PUBLISH
X-PUBLISHED-TTL:P3D
REFRESH-INTERVAL:P3D
CALSCALE:GREGORIAN
BEGIN:VEVENT
DTSTART:20230424T180000Z
DTEND:20230424T180000Z
X-MICROSOFT-CDO-ALLDAYEVENT:FALSE
SUMMARY:5th Annual Journey Community Church and Cast Hope Golf Tournament
DESCRIPTION:5th Annual Journey Community Church and Cast Hope\n\nGOLF TOURNAMENT\n\n\n\nApril 24\, 2023\n\n\n\nSycuan Golf Course at Singing Hills on the beautifully renovated Oak Golf Course\n\n\n\nBenefiting Summer Fun Camps 2023\n\n\n\nOur annual golf tournament returns this year!\n\nWith your support we can reach our goal of sponsoring children to attend Summer Fun Camp as well as youth to participate in Cast Hope's activities in 2023.\n\n\n\n6TH ANNUAL GOLF TOURNAMENT\n\n\n\nMonday\, April 24\, 2023   11 AM   Sycuan Golf Course at Singing Hills\n\nWe are excited to announce the return of the golf tournament this year in collaboration with Cast Hope\, a non-profit dedicated to providing fishing experiences to underserved youth. Our goal is to raise funds for children who cannot afford either Summer Fun Camp or the Cast Hope experience.\n\n\n\nHelp us put on a great event! We need:\n\nGolfers   Various levels of sponsorship   Donations for live and silent auctions   Volunteers on the day of event\n\nQuestions? Email Journey Community Church at jccgolf@journeycom.org\, Cast Hope at mylove89@me.com\, or call Mike Franz at 619-709-2260\n\n\n\nREGISTRATION\n\n\n\nGold Sponsorship: $5\,000\n\nIncludes two foursomes of golf\n\nSilver Sponsorship: $2\,500\n\nIncludes a foursome of golf\n\nBronze Sponsorship: $1\,000\n\nIncludes a twosome of golf\n\nGolf single: $175\n\nGolf Foursome: $700\n\nCart Sponsor: $50\n\nHole Sponsor: $250\n\nHole Sponsor with Table: $350\n\nDinner Sponsor: $500\n\nDinner Ticket: $50\n\n\n\nFor more information\, please visit our website.\n\njourneycommunitychurch.com/golf
X-ALT-DESC;FMTTYPE=text/html:<div style="text-align: center\;"><strong>5th Annual Journey Community Church and Cast Hope<br />\nGOLF TOURNAMENT<br />\n<br />\nApril 24\, 2023</strong><br />\n<br />\nSycuan Golf Course at Singing Hills on the beautifully renovated Oak Golf Course<br />\n<br />\nBenefiting Summer Fun Camps 2023<br />\n<br />\nOur annual golf tournament returns this year!<br />\nWith your support we can reach our goal of sponsoring children to attend Summer Fun Camp as well as youth to participate in Cast Hope&rsquo\;s activities in 2023.<br />\n<br />\n<strong>6TH ANNUAL GOLF TOURNAMENT</strong><br />\n<br />\nMonday\, April 24\, 2023 &bull\; 11 AM &bull\; Sycuan Golf Course at Singing Hills<br />\nWe are excited to announce the return of the golf tournament this year in collaboration with Cast&nbsp\;Hope\, a non-profit dedicated to providing fishing experiences to underserved youth. Our goal is to&nbsp\;raise funds for children who cannot afford either Summer Fun Camp or the Cast Hope experience.<br />\n<br />\nHelp us put on a great event! We need:<br />\nGolfers &bull\; Various levels of sponsorship&nbsp\;&bull\; Donations for live and silent auctions &bull\; Volunteers on the day of event<br />\nQuestions? Email Journey Community Church at <a href="mailto:jccgolf@journeycom.org">jccgolf@journeycom.org</a>\,&nbsp\;Cast Hope at <a href="mailto:mylove89@me.com">mylove89@me.com</a>\, or call Mike Franz at 619-709-2260<br />\n<br />\n<strong>REGISTRATION</strong><br />\n<br />\nGold Sponsorship: $5\,000<br />\n<em>Includes two foursomes of golf</em><br />\nSilver Sponsorship: $2\,500<br />\n<em>Includes a foursome of golf</em><br />\nBronze Sponsorship: $1\,000<br />\n<em>Includes a twosome of golf</em><br />\nGolf single: $175<br />\nGolf Foursome: $700<br />\nCart Sponsor: $50<br />\nHole Sponsor: $250<br />\nHole Sponsor with Table: $350<br />\nDinner Sponsor: $500<br />\nDinner Ticket: $50<br />\n<br />\nFor more information\, please visit our website.<br />\n<a href="http://journeycommunitychurch.com/golf" target="_blank">journeycommunitychurch.com/golf</a></div>\n
LOCATION:
UID:e.460.3200
SEQUENCE:3
DTSTAMP:20260419T174024Z
URL:https://chamber.lamesachamber.net/events/details/5th-annual-journey-community-church-and-cast-hope-golf-tournament-3200
END:VEVENT

END:VCALENDAR
