BEGIN:VCALENDAR
VERSION:2.0
PRODID:-//ChamberMaster//Event Calendar 2.0//EN
METHOD:PUBLISH
X-PUBLISHED-TTL:P3D
REFRESH-INTERVAL:P3D
CALSCALE:GREGORIAN
BEGIN:VEVENT
DTSTART:20210814T170000Z
DTEND:20210814T200000Z
X-MICROSOFT-CDO-ALLDAYEVENT:FALSE
SUMMARY:Backpack Giveaway and Vaccination Clinic
DESCRIPTION:Please join Assemblymember Dr. Akilah Weber on Saturday\, August 14th\, for the ninth Annual 79th Assembly District Backpack Giveaway!  Between 10 am   1 pm at Horace Mann Middle School\, we'll be giving away 1\,000 free backpacks filled with school supplies for the upcoming school year and sanitation kits to prepare students for in-person learning. There will also be a free vaccination clinic\, free helmet fittings and helmets\, and more giveaways!\n\n\n\nTo ensure that we have an accurate count\, we ask that you complete the registration prior to the event. To register\, you may visit: https://bit.ly/ad79backpacks. Please note that registration will close 3pm on Friday\, August 13th.  Masks and social distancing will be encouraged during this event.\n\n\n\nI'm looking forward to seeing you there!
X-ALT-DESC;FMTTYPE=text/html:Please join Assemblymember Dr. Akilah Weber on Saturday\, August 14th\, for the ninth Annual 79th Assembly District Backpack Giveaway!&nbsp\; Between 10 am &ndash\; 1 pm at Horace Mann Middle School\, we&rsquo\;ll be giving away 1\,000 free backpacks filled with school supplies for the upcoming school year and sanitation kits to prepare students for in-person learning. There will also be a free vaccination clinic\, free helmet fittings and helmets\, and more giveaways!<br />\n<br />\nTo ensure that we have an accurate count\, we ask that you complete the registration prior to the event. To register\, you may visit: <a href="https://bit.ly/ad79backpacks" target="_blank">https://bit.ly/ad79backpacks</a>. Please note that registration will close 3pm on Friday\, August 13th.&nbsp\; Masks and social distancing will be encouraged during this event.<br />\n<br />\nI&rsquo\;m looking forward to seeing you there!
LOCATION:Horace Mann Middle School 4345 54th Street San Diego\, CA 92115
UID:e.460.3092
SEQUENCE:3
DTSTAMP:20260421T014253Z
URL:https://chamber.lamesachamber.net/events/details/backpack-giveaway-and-vaccination-clinic-3092
END:VEVENT

END:VCALENDAR
