BEGIN:VCALENDAR
VERSION:2.0
PRODID:-//ChamberMaster//Event Calendar 2.0//EN
METHOD:PUBLISH
X-PUBLISHED-TTL:P3D
REFRESH-INTERVAL:P3D
CALSCALE:GREGORIAN
BEGIN:VEVENT
DTSTART:20210929T003000Z
DTEND:20210929T020000Z
X-MICROSOFT-CDO-ALLDAYEVENT:FALSE
SUMMARY:Blo Blow Dry Bar Ribbon Cutting & Evening Mixer
DESCRIPTION:On Tuesday\, September 28th the La Mesa Chamber of Commerce invites you to join them at the ribbon cutting and evening mixer to welcome Blo Blow Dry Bar to our business community. Blo Blow Dry Bar is located at 8806 Grossmont Boulevard in La Mesa. This is a great opportunity to meet this new Chamber member\, Angela Brown and her team. Blo Blow Dry Bar believes everyone deserves to feel beautiful\, inside\, and out. Blow outs have the power to uplift everyone and enhance everyone's day. The philosophy of Blo Blow Dry Bar is to treat yourself to a good hair day! Sample great food\, good conversation and beverages. The fun begins at 5:30 p.m. with the "official" ribbon cutting taking place at 6:00 p.m. The evening celebration will end at 7:00 p.m. \n\n\n\nMake plans to join us at this ribbon cutting celebration\, evening mixer and open house. Be sure to bring your business cards while you mix and mingle! Remember the "official" ribbon cutting will take place at 6:00 p.m. RSVP now to join the fun! RSVP to: rsvp@lamesachamber.com\, call us at 619-465-7700 ext. 2 or click Register to the right.
X-ALT-DESC;FMTTYPE=text/html:On Tuesday\, September 28th the La Mesa Chamber of Commerce invites you to join them at the ribbon cutting and evening mixer to welcome <a href="https://blomedry.com/la-mesa-ca/" target="_blank">Blo Blow Dry Bar</a> to our business community. Blo Blow Dry Bar is located at 8806 Grossmont Boulevard in La Mesa. This is a great opportunity to meet this new Chamber member\, Angela Brown and her team. Blo Blow Dry Bar believes everyone deserves to feel beautiful\, inside\, and out. Blow outs have the power to uplift everyone and enhance everyone&rsquo\;s day. The philosophy of Blo Blow Dry Bar is to treat yourself to a good hair day! Sample great food\, good conversation and beverages. The fun begins at 5:30 p.m. with the &ldquo\;official&rdquo\; ribbon cutting taking place at 6:00 p.m. The evening celebration will end at 7:00 p.m.&nbsp\;<br />\n<br />\nMake plans to join us at this ribbon cutting celebration\, evening mixer and open house. Be sure to bring your business cards while you mix and mingle! Remember the &ldquo\;official&rdquo\; ribbon cutting will take place at 6:00 p.m. RSVP now to join the fun! RSVP to: <a href="mailto:rsvp@lamesachamber.com">rsvp@lamesachamber.com</a>\, call us at 619-465-7700 ext. 2 or click Register to the right.
LOCATION:8806 Grossmont Boulevard in La Mesa
UID:e.460.3097
SEQUENCE:3
DTSTAMP:20260421T013742Z
URL:https://chamber.lamesachamber.net/events/details/blo-blow-dry-bar-ribbon-cutting-evening-mixer-3097
END:VEVENT

END:VCALENDAR
