BEGIN:VCALENDAR
VERSION:2.0
PRODID:-//ChamberMaster//Event Calendar 2.0//EN
METHOD:PUBLISH
X-PUBLISHED-TTL:P3D
REFRESH-INTERVAL:P3D
CALSCALE:GREGORIAN
BEGIN:VEVENT
DTSTART:20260523T180000Z
DTEND:20260523T210000Z
X-MICROSOFT-CDO-ALLDAYEVENT:FALSE
SUMMARY:Bruster's Real Ice Cream Grand Opening
DESCRIPTION:Let's Welcome Bruster's Real Ice Cream to Our Community\n\n\n\nJoin Us for the Open House & Ribbon Cutting On Saturday\, May 23rd\n\n\n\nLet's celebrate Bruster's Real Ice Cream and welcome them to La Mesa on Saturday\, May 23rd between \n\nthe hours of 11:00 a.m.   2:00 p.m. with the "official" ribbon cutting happening at 12 noon. \n\n\n\nBruster's is located at 8497 Fletcher Parkway Drive in the Grossmont Trolley Center. They offer a \n\nconvenient drive through service to get your ice cream "fix"\, as well as ordering and enjoying your \n\nice cream on site.\n\n\n\nJoin us and meet the owners and staff of this amazing addition to the La Mesa business community. \n\nWhile there\, try your luck at the "spinning wheel" where you can win various prizes such as BOGO \n\nfree waffle cones\, $1.00 discount on items\, free regular freezes or blasts and more!\n\n.\n\nDon't miss out on the fun   Join us for this free event and welcome Bruster's to La Mesa! \n\nReservations are not necessary but can be made via the web site:\n\nrsvp@lamesachamber.com.
X-ALT-DESC;FMTTYPE=text/html:<strong>Let&rsquo\;s Welcome Bruster&rsquo\;s Real Ice Cream to Our Community<br />\n<br />\nJoin Us for the Open House &amp\; Ribbon Cutting On Saturday\, May 23rd</strong><br />\n<br />\nLet&rsquo\;s celebrate Bruster&rsquo\;s Real Ice Cream and welcome them to La Mesa on Saturday\, May 23rd between&nbsp\;<br />\nthe hours of 11:00 a.m. &ndash\; 2:00 p.m. with the &ldquo\;official&rdquo\; ribbon cutting happening at 12 noon.&nbsp\;<br />\n<br />\nBruster&rsquo\;s is located at 8497 Fletcher Parkway Drive in the Grossmont Trolley Center. They offer a&nbsp\;<br />\nconvenient drive through service to get your ice cream &ldquo\;fix&rdquo\;\, as well as ordering and enjoying your&nbsp\;<br />\nice cream on site.<br />\n<br />\nJoin us and meet the owners and staff of this amazing addition to the La Mesa business community.&nbsp\;<br />\nWhile there\, try your luck at the &ldquo\;spinning wheel&rdquo\; where you can win various prizes such as BOGO&nbsp\;<br />\nfree waffle cones\, $1.00 discount on items\, free regular freezes or blasts and more!<br />\n.<br />\nDon&rsquo\;t miss out on the fun &ndash\; Join us for this free event and welcome Bruster&rsquo\;s to La Mesa!&nbsp\;<br />\nReservations are not necessary but can be made via the web site:<br />\nrsvp@lamesachamber.com.
LOCATION:8497 Fletcher Parkway Drive La Mesa\, CA 91942
UID:e.460.3469
SEQUENCE:3
DTSTAMP:20260421T011207Z
URL:https://chamber.lamesachamber.net/events/details/bruster-s-real-ice-cream-grand-opening-3469
END:VEVENT

END:VCALENDAR
