BEGIN:VCALENDAR
VERSION:2.0
PRODID:-//ChamberMaster//Event Calendar 2.0//EN
METHOD:PUBLISH
X-PUBLISHED-TTL:P3D
REFRESH-INTERVAL:P3D
CALSCALE:GREGORIAN
BEGIN:VEVENT
DTSTART:20221014T003000Z
DTEND:20221014T020000Z
X-MICROSOFT-CDO-ALLDAYEVENT:FALSE
SUMMARY:Cabrillo Credit Union Grand Opening and Ribbon Cutting
DESCRIPTION:Cabrillo Credit Union Celebrates New Location on October 13th with Grand Opening and Ribbon Cutting Activities\n\n\n\n\n\nCabrillo Credit Union is moving to their new location at 5454 Grossmont Center Drive in La Mesa.  To celebrate this momentous occasion\, they will offer a special grand opening event\, on Thursday\, October 13th between the hours of 5:30 p.m.   7:00 p.m. (with the official ribbon cutting happening at 6:00 p.m.). The evening will include activities that are sure to please\, great food\, beverages\, prizes\, photo opportunities\, and more!\n\n\n\n\n\nCabrillo Credit Union has enjoyed a long and prosperous history dating back to 1955. That history has demonstrated growth\, consistency\, and a dedication to the credit union members they serve.  They offer a growing set of services that include   personal savings and checking accounts\, home loans\, home equity lines of credit and auto loans.\n\n\n\n\n\nDon't miss out on the fun! Please join us and wish the Cabrillo Credit Union team our good wishes for many more years of success in La Mesa! Please RSVP to ensure that we prepare enough refreshments to: rsvp@lamesachamber.com or register online.
X-ALT-DESC;FMTTYPE=text/html:<strong>Cabrillo Credit Union Celebrates New Location on October 13th</strong><strong> with Grand Opening and Ribbon Cutting Activities</strong><br />\n<br />\n<br />\nCabrillo Credit Union is moving to their new location at 5454 Grossmont Center Drive in La Mesa.&nbsp\; To celebrate this momentous occasion\, they will offer a special grand opening event\, on Thursday\, October 13th between the hours of 5:30 p.m. &ndash\; 7:00 p.m. (with the official ribbon cutting happening at 6:00 p.m.). The evening will include activities that are sure to please\, great food\, beverages\, prizes\, photo opportunities\, and more!<br />\n<br />\n<br />\nCabrillo Credit Union has enjoyed a long and prosperous history dating back to 1955. That history has demonstrated growth\, consistency\, and a dedication to the credit union members they serve.&nbsp\; They offer a growing set of services that include &ndash\; personal savings and checking accounts\, home loans\, home equity lines of credit and auto loans.<br />\n<br />\n<br />\nDon&rsquo\;t miss out on the fun! Please join us and wish the Cabrillo Credit Union team our good wishes for many more years of success in La Mesa! Please RSVP to ensure that we prepare enough refreshments to: <a href="mailto:rsvp@lamesachamber.com">rsvp@lamesachamber.com</a> or <a href="https://lamesachamber.chambermaster.com/eventregistration/register/3159" target="_blank">register online</a>.
LOCATION:5454 Grossmont Center Drive in La Mesa
UID:e.460.3159
SEQUENCE:3
DTSTAMP:20260420T020915Z
URL:https://chamber.lamesachamber.net/events/details/cabrillo-credit-union-grand-opening-and-ribbon-cutting-3159
END:VEVENT

END:VCALENDAR
