BEGIN:VCALENDAR
VERSION:2.0
PRODID:-//ChamberMaster//Event Calendar 2.0//EN
METHOD:PUBLISH
X-PUBLISHED-TTL:P3D
REFRESH-INTERVAL:P3D
CALSCALE:GREGORIAN
BEGIN:VEVENT
DTSTART:20230518T003000Z
DTEND:20230518T020000Z
X-MICROSOFT-CDO-ALLDAYEVENT:FALSE
SUMMARY:Casa Gabriela Ribbon Cutting
DESCRIPTION:Welcome Casa Gabriela to Our Business Community\n\nWelcome and Ribbon Cutting Scheduled for Wednesday\, May 17th\n\n\n\nJoin us and welcome Casa Gabriela to our business community and join in the fun-filled evening on Wednesday\, May 17th. A modest interior renovation has transformed the current space downtown at 8384 La Mesa Boulevard in La Mesa (that used to be Bo-beau kitchen+ garden) to Casa Gabriela. This welcome mixer and ribbon cutting will be held on Wednesday\, May 17th between the hours of 5:30 p.m.   7:00 p.m. The "official" ribbon cutting will take place at 6:00 p.m.\n\n\n\nMeet the managers and the staff as you sample appetizers from the menu and if you choose to purchase cocktails\, sip on their popular Tequila and Mezcal based cocktails during this evening mixer.\n\n\n\nThe Chamber will host a raffle throughout the evening.  Be sure to make plans to join us and bring your business cards while you mix and mingle! This event is FREE to Chamber Members and $15 per person for all guests. Due to our chosen mixer space on the patio\, we will not accept any "At Door" attendees. Join us and celebrate this new addition to our downtown area. RSVP now to: rsvp@lamesachamber.com.\n\n\n\nRESERVATIONS ARE NOW CLOSED. NO AT DOOR ATTENDEES ACCEPTED.
X-ALT-DESC;FMTTYPE=text/html:<strong>Welcome Casa Gabriela to Our Business Community<br />\nWelcome and Ribbon Cutting Scheduled for Wednesday\, May 17th</strong><br />\n<br />\nJoin us and welcome Casa Gabriela to our business community and join in the fun-filled evening on Wednesday\, May 17th. A modest interior renovation has transformed the current space downtown at 8384 La Mesa Boulevard in La Mesa (that used to be Bo-beau kitchen+ garden) to Casa Gabriela. This welcome mixer and ribbon cutting will be held on Wednesday\, May 17th between the hours of 5:30 p.m. &ndash\; 7:00 p.m. The &ldquo\;official&rdquo\; ribbon cutting will take place at 6:00 p.m.<br />\n<br />\nMeet the managers and the staff as you sample appetizers from the menu and if you choose to purchase cocktails\, sip on their popular Tequila and Mezcal based cocktails during this evening mixer.<br />\n<br />\nThe Chamber will host a raffle throughout the evening.&nbsp\; Be sure to make plans to join us and bring your business cards while you mix and mingle! This event is FREE to Chamber Members and $15 per person for all guests. Due to our chosen mixer space on the patio\, we will not accept any &ldquo\;At Door&rdquo\; attendees. Join us and celebrate this new addition to our downtown area. RSVP now to: <a href="mailto:rsvp@lamesachamber.com">rsvp@lamesachamber.com</a>.<br />\n<br />\n<u><strong>RESERVATIONS ARE NOW CLOSED. NO AT DOOR ATTENDEES ACCEPTED.</strong></u>
LOCATION:8384 La Mesa Boulevard in La Mesa (that used to be Bo-beau kitchen+ garden)
UID:e.460.3203
SEQUENCE:3
DTSTAMP:20260419T144014Z
URL:https://chamber.lamesachamber.net/events/details/casa-gabriela-ribbon-cutting-3203
END:VEVENT

END:VCALENDAR
