BEGIN:VCALENDAR
VERSION:2.0
PRODID:-//ChamberMaster//Event Calendar 2.0//EN
METHOD:PUBLISH
X-PUBLISHED-TTL:P3D
REFRESH-INTERVAL:P3D
CALSCALE:GREGORIAN
BEGIN:VEVENT
DTSTART:20210415T183000Z
DTEND:20210415T200000Z
X-MICROSOFT-CDO-ALLDAYEVENT:FALSE
SUMMARY:Chamber Innovators
DESCRIPTION:Attend a Chamber Innovators FREE Workshop on April 15th\n\n\n\nLearn how other communities around the nation are making their "pivot" and learn how virtual reality can unleash your ability to connect.  Presented by Aaron Brossoit\, CEO Golden Shovel Agency and  PlaceVR.\n\n    \n\n                When:        Thursday\, April 15th\n\n\n\n                Time:        11:30 a.m. - 12:00 p.m.- Networking\n\n\n\n                            12:00-1:00 p.m. Presentation (limited to 100 people)\n\nhttps://us02web.zoom.us/j/87466401434?pwd=T2JyclJlbkhvMmMyblJiK2x6K1V6Zz09
X-ALT-DESC;FMTTYPE=text/html:<strong>Attend a Chamber Innovators FREE Workshop on April 15th</strong><br />\n<br />\nLearn how other communities around the nation are making their &ldquo\;pivot&rdquo\; and learn how virtual reality can unleash your ability to connect.&nbsp\; Presented by Aaron Brossoit\, CEO Golden Shovel Agency and&nbsp\; PlaceVR.<br />\n&nbsp\;&nbsp\; &nbsp\;<br />\n&nbsp\;&nbsp\; &nbsp\;&nbsp\;&nbsp\; &nbsp\;&nbsp\;&nbsp\; &nbsp\;&nbsp\;&nbsp\; &nbsp\;When:&nbsp\;&nbsp\; &nbsp\;&nbsp\;&nbsp\; &nbsp\;Thursday\, April 15th<br />\n<br />\n&nbsp\;&nbsp\; &nbsp\;&nbsp\;&nbsp\; &nbsp\;&nbsp\;&nbsp\; &nbsp\;&nbsp\;&nbsp\; &nbsp\;Time:&nbsp\;&nbsp\; &nbsp\;&nbsp\;&nbsp\; &nbsp\;11:30 a.m. - 12:00 p.m.- Networking<br />\n<br />\n&nbsp\;&nbsp\; &nbsp\;&nbsp\;&nbsp\; &nbsp\;&nbsp\;&nbsp\; &nbsp\;&nbsp\;&nbsp\; &nbsp\;&nbsp\;&nbsp\; &nbsp\;&nbsp\;&nbsp\; &nbsp\;&nbsp\;&nbsp\; &nbsp\;12:00-1:00 p.m. Presentation (limited to 100 people)<br />\n<a href="https://us02web.zoom.us/j/87466401434?pwd=T2JyclJlbkhvMmMyblJiK2x6K1V6Zz09" target="_blank">https://us02web.zoom.us/j/87466401434?pwd=T2JyclJlbkhvMmMyblJiK2x6K1V6Zz09</a>
LOCATION:
UID:e.460.3054
SEQUENCE:3
DTSTAMP:20260421T021944Z
URL:https://chamber.lamesachamber.net/events/details/chamber-innovators-3054
END:VEVENT

END:VCALENDAR
