BEGIN:VCALENDAR
VERSION:2.0
PRODID:-//ChamberMaster//Event Calendar 2.0//EN
METHOD:PUBLISH
X-PUBLISHED-TTL:P3D
REFRESH-INTERVAL:P3D
CALSCALE:GREGORIAN
BEGIN:VEVENT
DTSTART:20210429T010000Z
DTEND:20210429T010000Z
X-MICROSOFT-CDO-ALLDAYEVENT:FALSE
SUMMARY:Community Conversation Communication Forum
DESCRIPTION:As part of the Livable La Mesa Age Friendly project\, the City of La Mesa Community Relations and Veterans Commission will host a virtual forum on Wednesday\, April 28 at 6:00 p.m. to solicit feedback on the City's information distribution methods. The event will foster dialogue on the current methods of communication being used by the City of La Mesa and solicit input for improvement.\n\n\n\nQuestions\, comments and suggestions are encouraged from residents as the City looks to improve distribution of critical information to further involve and inform the community.\n\n\n\nThe event is being held on Zoom at https://zoom.us/j/93872688513 or participate by phone by calling 669.900.6833 webinar ID: 938 7268 8513.\n\n\n\nFor more information\, to submit written questions\, comments\, or for help accessing Zoom contact Meg Howell at mhowell@cityoflamesa.us or 619.667.1491 by noon on April 28\, 2021.
X-ALT-DESC;FMTTYPE=text/html:As part of the Livable La Mesa Age Friendly project\, the City of La Mesa Community Relations and Veterans Commission will host a virtual forum on Wednesday\, April 28 at 6:00 p.m. to solicit feedback on the City&rsquo\;s information distribution methods. The event will foster dialogue on the current methods of communication being used by the City of La Mesa and solicit input for improvement.<br />\n<br />\nQuestions\, comments and suggestions are encouraged from residents as the City looks to improve distribution of critical information to further involve and inform the community.<br />\n<br />\nThe event is being held on Zoom at <a href="https://zoom.us/j/93872688513" target="_blank">https://zoom.us/j/93872688513</a> or participate by phone by calling 669.900.6833 webinar ID: 938 7268 8513.<br />\n<br />\nFor more information\, to submit written questions\, comments\, or for help accessing Zoom contact Meg Howell at <a href="mailto:mhowell@cityoflamesa.us">mhowell@cityoflamesa.us</a> or 619.667.1491 by noon on April 28\, 2021.
LOCATION:
UID:e.460.3058
SEQUENCE:3
DTSTAMP:20260420T195148Z
URL:https://chamber.lamesachamber.net/events/details/community-conversation-communication-forum-3058
END:VEVENT

END:VCALENDAR
