BEGIN:VCALENDAR
VERSION:2.0
PRODID:-//ChamberMaster//Event Calendar 2.0//EN
METHOD:PUBLISH
X-PUBLISHED-TTL:P3D
REFRESH-INTERVAL:P3D
CALSCALE:GREGORIAN
BEGIN:VEVENT
DTSTART:20230308T013000Z
DTEND:20230308T030000Z
X-MICROSOFT-CDO-ALLDAYEVENT:FALSE
SUMMARY:Deano's Pub Evening Mixer
DESCRIPTION:Join Us at Deano's Pub on March 7th For an Evening Mixer\n\n\n\nIf you haven't had a chance to visit one of the newest pubs in town\, then March 7th is your chance. Join us and meet owners Dean and Erika Velasco and see why this has become a favorite "watering hole" for many. Deano's Pub is located at 5286 Baltimore Drive and will be offering happy hour prices for this mixer\, as well as food from one of our newest Chamber Member  restaurants\, Acapela Modern Mexican. This is a "double header" by offering two Chamber Member businesses to you on one evening.  Great conversation\, great food and great beverages equals a great time!   \n\n\n\nDate: Tuesday\, March 7\, 2023\n\n\n\nTime: 5:30 p.m. - 7:00 p.m.\n\n\n\nCost:\n\nFree to Chamber Members\n\n$15 for guests with reservations\n\n$20 at the door\n\n\n\nRSVP now to rsvp@lamesachamber.com to let us know you will be here!
X-ALT-DESC;FMTTYPE=text/html:<strong>Join Us at <a href="http://www.deanospub.com" target="_blank">Deano&rsquo\;s Pub</a> on March 7th For an Evening Mixer</strong><br />\n<br />\nIf you haven&#39\;t had a chance to visit one of the newest pubs in town\, then March 7th is your chance. Join us and meet owners Dean and Erika Velasco and see why this has become a favorite &ldquo\;watering hole&rdquo\; for many. Deano&rsquo\;s Pub is located at 5286 Baltimore Drive and will be offering happy hour prices for this mixer\, as well as food from one of our newest Chamber Member&nbsp\; restaurants\, <a href="http://www.eatacapela.com" target="_blank"><em>Acapela Modern Mexican</em></a>. This is a &ldquo\;double header&rdquo\; by offering two Chamber Member businesses to you on one evening.&nbsp\; Great conversation\, great food and great beverages equals a great time!&nbsp\; &nbsp\;<br />\n<br />\nDate: Tuesday\, March 7\, 2023<br />\n<br />\nTime: 5:30 p.m. - 7:00 p.m.<br />\n<br />\nCost:<br />\nFree to Chamber Members<br />\n$15 for guests with reservations<br />\n$20 at the door<br />\n<br />\nRSVP now to <a href="mailto:rsvp@lamesachamber.com">rsvp@lamesachamber.com</a> to let us know you will be here!
LOCATION:5286 Baltimore Drive La Mesa\, CA 91942
UID:e.460.3194
SEQUENCE:3
DTSTAMP:20260419T173702Z
URL:https://chamber.lamesachamber.net/events/details/deano-s-pub-evening-mixer-3194
END:VEVENT

END:VCALENDAR
