BEGIN:VCALENDAR
VERSION:2.0
PRODID:-//ChamberMaster//Event Calendar 2.0//EN
METHOD:PUBLISH
X-PUBLISHED-TTL:P3D
REFRESH-INTERVAL:P3D
CALSCALE:GREGORIAN
BEGIN:VEVENT
DTSTART:20220310T013000Z
DTEND:20220310T030000Z
X-MICROSOFT-CDO-ALLDAYEVENT:FALSE
SUMMARY:Deano's Pub Mixer
DESCRIPTION:Want to Party at Deano's Pub & Meet This New La Mesa Business? Then Join Us at a Mixer at Deano's Pub on March 9th\n\n\n\nOn Wednesday\, March 9th we will celebrate Deano's Pub opening their new business in La Mesa and meet owners Dean and Erika Velasco at their mixer. They had a vision of taking the existing location\, remodeling it\, and turning it into a warm and friendly gathering place where everyone can feel welcome and have fun! Deano's Pub is located at 5286 Baltimore Drive in La Mesa and is already the "talk of the town."  In addition to watching your favorite team on the big screen TV's\, listen to live music and enjoy Karaoke on Wednesday nights\, Deano's Pub is the perfect place to join friends and unwind after a busy day.\n\n\n\nThe fun begins at 5:30 p.m. and will end at 7:00 p.m. Just so you are aware\, Karaoke begins at 7:00 p.m. so some of you "rising stars" may want to stay and show us your singing talent during that evening. To make the night extra special\, Deano's Pub is offering Happy Hour drink pricing\, in addition to specialty drinks for your sipping pleasure. To add to this special night\, they will be featuring delicious food from their neighbor\, Nonno's Ristorante Italiano. What could be better\, than sampling delicious food AND sipping on refreshing beverages\, while mixing and mingling with friends and businesses? The answer is   nothing! Join us and personally welcome them to our business community. Don't be left out   RSVP now so we know you will be joining us and prepare enough refreshments to: rsvp@lamesachamber.com or click Register.
X-ALT-DESC;FMTTYPE=text/html:<strong>Want to Party at Deano&rsquo\;s Pub &amp\; Meet This New La Mesa Business? Then Join Us at a Mixer at Deano&rsquo\;s Pub on March 9th</strong><br />\n<br />\nOn Wednesday\, March 9th we will celebrate Deano&rsquo\;s Pub opening their new business in La Mesa and meet owners Dean and Erika Velasco at their mixer. They had a vision of taking the existing location\, remodeling it\, and turning it into a warm and friendly gathering place where everyone can feel welcome and have fun! Deano&rsquo\;s Pub is located at 5286 Baltimore Drive in La Mesa and is already the &ldquo\;talk of the town.&rdquo\;&nbsp\; In addition to watching your favorite team on the big screen TV&rsquo\;s\, listen to live music and enjoy Karaoke on Wednesday nights\, Deano&rsquo\;s Pub is the perfect place to join friends and unwind after a busy day.<br />\n<br />\nThe fun begins at 5:30 p.m. and will end at 7:00 p.m. Just so you are aware\, Karaoke begins at 7:00 p.m. so some of you &ldquo\;rising stars&rdquo\; may want to stay and show us your singing talent during that evening. To make the night extra special\, Deano&rsquo\;s Pub is offering Happy Hour drink pricing\, in addition to specialty drinks for your sipping pleasure. To add to this special night\, they will be featuring delicious food from their neighbor\, Nonno&rsquo\;s Ristorante Italiano. What could be better\, than sampling delicious food AND sipping on refreshing beverages\, while mixing and mingling with friends and businesses? The answer is &ndash\; nothing! Join us and personally welcome them to our business community. Don&rsquo\;t be left out &ndash\; RSVP now so we know you will be joining us and prepare enough refreshments to: rsvp@lamesachamber.com or click Register.
LOCATION:5286 Baltimore Drive in La Mesa
UID:e.460.3114
SEQUENCE:3
DTSTAMP:20260420T134154Z
URL:https://chamber.lamesachamber.net/events/details/deano-s-pub-mixer-3114
END:VEVENT

END:VCALENDAR
