BEGIN:VCALENDAR
VERSION:2.0
PRODID:-//ChamberMaster//Event Calendar 2.0//EN
METHOD:PUBLISH
X-PUBLISHED-TTL:P3D
REFRESH-INTERVAL:P3D
CALSCALE:GREGORIAN
BEGIN:VEVENT
DTSTART:20220901T003000Z
DTEND:20220901T020000Z
X-MICROSOFT-CDO-ALLDAYEVENT:FALSE
SUMMARY:Dream Dinners 9th Anniversary Evening Mixer
DESCRIPTION:Dream Dinners Celebrates Their 9th Anniversary\n\n\nMarsi Haney\, owner of Dream Dinners arrived in La Mesa 9-years ago and are we glad!  Dream Dinners is a unique concept for your meals   save time and energy by purchasing ready-to-cook meals prepared by the Dream Dinners team.  Dream Dinners is located at 5208 Jackson Drive\, Suite 116 in La Mesa.\n\n\n\nTo celebrate her 9th anniversary\, Marsi is hosting an evening mixer\, where you can meet the team\, view menus\, sample some of the delicious appetizers and desserts\, as well as sip champagne and beverages. To add to the evening's unique experience\, you will be able to receive drink tickets from Marsi that allows you to go next door and purchase 25-cent tasters at Little Miss Brewing.\n\n\n\nThis special occasion will be held on Wednesday\, August 31st between the hours of 5:30 p.m.   7:00 p.m. with an "official" ribbon cutting at 6:00 p.m. to really celebrate this 9-year anniversary! Please join us and wish Marsi and her team our good wishes for many more years of success! This event is FREE to Chamber members and $10 per person for guests.  Don't miss out on the fun   RSVP NOW to rsvp@lamesachamber.com or register online here.\n\n\n\nSpecial Offer for Event Guests\n\nLet's Cook Up Some Fun!\n\n\n\nYou're invited to a Meal Prep Workshop at Dream Dinners. Learn the secret to making easy\, homemade meals and taste delicious appetizers. You'll receive three delicious\, medium-size meals to enjoy at home with your family for just $60.00.\n\n\n\nThere are limited spaces available\, and this offer is only available for guests of this event. Select three dinners from the menu and complete your order to reserve your spot today!\n\n\n\nSIGN UP
X-ALT-DESC;FMTTYPE=text/html:<div style="text-align: center\;"><strong>Dream Dinners Celebrates Their 9th Anniversary</strong></div>\n<br />\nMarsi Haney\, owner of Dream Dinners arrived in La Mesa 9-years ago and are we glad!&nbsp\; Dream Dinners is a unique concept for your meals &ndash\; save time and energy by purchasing ready-to-cook meals prepared by the Dream Dinners team.&nbsp\; Dream Dinners is located at 5208 Jackson Drive\, Suite 116 in La Mesa.<br />\n<br />\nTo celebrate her 9th anniversary\, Marsi is hosting an evening mixer\, where you can meet the team\, view menus\, sample some of the delicious appetizers and desserts\, as well as sip champagne and beverages. To add to the evening&rsquo\;s unique experience\, you will be able to receive drink tickets from Marsi that allows you to go next door and purchase 25-cent tasters at Little Miss Brewing.<br />\n<br />\nThis special occasion will be held on Wednesday\, August 31st between the hours of 5:30 p.m. &ndash\; 7:00 p.m. with an &ldquo\;official&rdquo\; ribbon cutting at 6:00 p.m. to really celebrate this 9-year anniversary! Please join us and wish Marsi and her team our good wishes for many more years of success! This event is FREE to Chamber members and $10 per person for guests.&nbsp\; Don&rsquo\;t miss out on the fun &ndash\; RSVP NOW to <a href="http://rsvp@lamesachamber.com">rsvp@lamesachamber.com</a> or <a href="https://lamesachamber.chambermaster.com/eventregistration/register/3154" target="_blank">register online here</a>.\n\n<div style="text-align: center\;"><br />\n<strong>Special Offer for Event Guests</strong><br />\n<strong>Let&rsquo\;s Cook Up Some Fun!</strong><br />\n<br />\nYou&#39\;re invited to a Meal Prep Workshop at Dream Dinners. Learn the secret to making easy\, homemade meals and taste delicious appetizers. You&rsquo\;ll receive three delicious\, medium-size meals to enjoy at home with your family for just $60.00.<br />\n<br />\nThere are limited spaces available\, and this offer is only available for guests of this event. Select three dinners from the menu and complete your order to <a href="https://dreamdinners.com/main.php?page=session_menu" target="_blank">reserve your spot today</a>!<br />\n<br />\n<a href="https://dreamdinners.com/main.php?page=session_menu" target="_blank"><strong>SIGN UP</strong></a></div>\n
LOCATION:Dream Dinners 5208 Jackson Drive\, Suite 116 in La Mesa
UID:e.460.3154
SEQUENCE:3
DTSTAMP:20260420T071451Z
URL:https://chamber.lamesachamber.net/events/details/dream-dinners-9th-anniversary-evening-mixer-3154
END:VEVENT

END:VCALENDAR
