BEGIN:VCALENDAR
VERSION:2.0
PRODID:-//ChamberMaster//Event Calendar 2.0//EN
METHOD:PUBLISH
X-PUBLISHED-TTL:P3D
REFRESH-INTERVAL:P3D
CALSCALE:GREGORIAN
BEGIN:VEVENT
DTSTART:20230316T000000Z
DTEND:20230316T020000Z
X-MICROSOFT-CDO-ALLDAYEVENT:FALSE
SUMMARY:Dream Dinners Birthday Celebration & Open House
DESCRIPTION:Come out and meet owner\, Marsi Haney and her staff and see why Dream Dinners is an excellent way to feed your family\, without all of the prep time and shopping headaches. We are proud to inform you that Dream Dinners will be a food vendor at our upcoming "Spring Fling" Business Expo!
X-ALT-DESC;FMTTYPE=text/html:Come out and meet owner\, Marsi Haney and her staff and see why Dream Dinners is an excellent way to feed your family\, without all of the prep time and shopping headaches. We are proud to inform you that Dream Dinners will be a food vendor at our upcoming <a href="https://lamesachamber.net/spring-fling-business-expo/">&quot\;Spring Fling&quot\; Business Expo</a>!&nbsp\;
LOCATION:5208 Jackson Drive #116 La Mesa CA 91942
UID:e.460.3201
SEQUENCE:3
DTSTAMP:20260419T174953Z
URL:https://chamber.lamesachamber.net/events/details/dream-dinners-birthday-celebration-open-house-3201
END:VEVENT

END:VCALENDAR
