BEGIN:VCALENDAR
VERSION:2.0
PRODID:-//ChamberMaster//Event Calendar 2.0//EN
METHOD:PUBLISH
X-PUBLISHED-TTL:P3D
REFRESH-INTERVAL:P3D
CALSCALE:GREGORIAN
BEGIN:VEVENT
DTSTART:20211111T013000Z
DTEND:20211111T030000Z
X-MICROSOFT-CDO-ALLDAYEVENT:FALSE
SUMMARY:Evening Mixer at Hooleys Public House
DESCRIPTION:Join us at the Evening Mixer at Hooleys Public House at Grossmont Center! We are pleased to offer great food from Hooleys to fill your stomach! The menu is sure to please!\n\n\n\nSee why Hooleys Public House is a popular destination and why Craig McDonald is a VERY popular owner! The great food\, friendly atmosphere and fantastic staff are key to Craig's success.\n\n\n\nThe Chamber will host a raffle and other surprises. Be sure to bring your business cards while you mix and mingle.\n\n\n\nWednesday\, November 10   \n\n5:30 - 7:00 p.m.    \n\nAt: Hooleys Public House | 5500 Grossmont Center Drive #277\, La Mesa\, CA 91941\n\n\n\nEvening cost (includes 1 wine ticket):\n\n	FREE to ALL Chamber Members\n	Guests - $15 per person\n	At Door Guests - $25 per person
X-ALT-DESC;FMTTYPE=text/html:Join us at the Evening Mixer at Hooleys Public House at Grossmont Center! We are pleased to offer great food from Hooleys to fill your stomach! The menu is sure to please!<br />\n<br />\nSee why Hooleys Public House is a popular destination and why Craig McDonald is a VERY popular owner! The great food\, friendly atmosphere and fantastic staff are key to Craig&rsquo\;s success.<br />\n<br />\nThe Chamber will host a raffle and other surprises. Be sure to bring your business cards while you mix and mingle.<br />\n<br />\nWednesday\, November 10&nbsp\;&nbsp\;&nbsp\;<br />\n5:30 - 7:00 p.m.&nbsp\;&nbsp\; &nbsp\;<br />\nAt: Hooleys Public House | 5500 Grossmont Center Drive #277\, La Mesa\, CA 91941<br />\n<br />\nEvening cost (includes 1 wine ticket):\n<ul>\n	<li>FREE to ALL Chamber Members</li>\n	<li>Guests - $15 per person</li>\n	<li>At Door Guests - $25 per person</li>\n</ul>\n
LOCATION:Hooleys Public House | 5500 Grossmont Center Drive #277\, La Mesa\, CA 91941
UID:e.460.3090
SEQUENCE:3
DTSTAMP:20260420T203535Z
URL:https://chamber.lamesachamber.net/events/details/evening-mixer-at-hooleys-public-house-3090
END:VEVENT

END:VCALENDAR
