BEGIN:VCALENDAR
VERSION:2.0
PRODID:-//ChamberMaster//Event Calendar 2.0//EN
METHOD:PUBLISH
X-PUBLISHED-TTL:P3D
REFRESH-INTERVAL:P3D
CALSCALE:GREGORIAN
BEGIN:VEVENT
DTSTART:20211021T003000Z
DTEND:20211021T020000Z
X-MICROSOFT-CDO-ALLDAYEVENT:FALSE
SUMMARY:Evening Mixer at the East County Art Association
DESCRIPTION:On Wednesday\, October 20th we are ready to celebrate at our valued Chamber Member\, East County Art Association located at 124 E. Main Street in El Cajon. with an evening mixer. The fun begins at 5:30 p.m. and the mixer will continue until 7 p.m. This FREE evening get-together is long overdue\, and we are ready to meet and visit with Linda Baltodano\, who is part of the leadership team of the East County Art Association and members of this non-profit organization and meet the artists and the exhibit Light & Dark. This organization was created to promote friendship\, fine art appreciation in all media\, and art education for members and the community. The East County Art Association features artwork from fine artists\, as well as admirers of the arts.  This special occasion will offer beverages and fine wines by the glass and enjoy appetizers from local restaurants and more!\n\n \n\nDate: Wednesday\, October 20th\n\n \n\nWhere: East County Art Association\n\n124 E. Main Street   El Cajon\n\n \n\nTime: 5:30 p.m.   7:00 p.m.\n\n \n\nRSVP's: Due to public health and safety\, this event is limited to the first 50 people who register to attend. RSVP's are required. Please RSVP to: rsvp@lamesachamber.com or click Register to the right.\n\n \n\nWe look forward to seeing you in person for great wine and assorted beverages\, delicious appetizers\, good conversation and fun
X-ALT-DESC;FMTTYPE=text/html:<div>\n<div>On Wednesday\, October 20th we are ready to celebrate at our valued Chamber Member\, <a href="https://eastcountyart.org/" target="_blank">East County Art Association</a> located at 124 E. Main Street in El Cajon. with an evening mixer. The fun begins at 5:30 p.m. and the mixer will continue until 7 p.m. This FREE evening get-together is long overdue\, and we are ready to meet and visit with Linda Baltodano\, who is part of the leadership team of the East County Art Association and members of this non-profit organization and meet the artists and the exhibit Light &amp\; Dark. This organization was created to promote friendship\, fine art appreciation in all media\, and art education for members and the community. The East County Art Association features artwork from fine artists\, as well as admirers of the arts.&nbsp\; This special occasion will offer beverages and fine wines by the glass and enjoy appetizers from local restaurants and more!</div>\n\n<div>&nbsp\;</div>\n\n<div><strong>Date:</strong><span style="white-space:pre"> </span>Wednesday\, October 20th</div>\n\n<div>&nbsp\;</div>\n\n<div><strong>Where:<span style="white-space:pre"> </span></strong>East County Art Association</div>\n\n<div>124 E. Main Street &ndash\; El Cajon</div>\n\n<div>&nbsp\;</div>\n\n<div><strong>Time:</strong><span style="white-space:pre"> </span>5:30 p.m. &ndash\; 7:00 p.m.</div>\n\n<div>&nbsp\;</div>\n\n<div><strong>RSVP&rsquo\;s:<span style="white-space:pre"> </span></strong>Due to public health and safety\, this event is limited to the first 50 people who register to attend.&nbsp\;RSVP&rsquo\;s are required. Please RSVP to: <a href="mailto:rsvp@lamesachamber.com">rsvp@lamesachamber.com</a> or click Register to the right.</div>\n\n<div>&nbsp\;</div>\n\n<div>We look forward to seeing you in person for great wine and assorted beverages\, delicious appetizers\, good conversation and fun</div>\n</div>\n
LOCATION:East County Art Association 124 E. Main Street El Cajon
UID:e.460.3100
SEQUENCE:3
DTSTAMP:20260420T220942Z
URL:https://chamber.lamesachamber.net/events/details/evening-mixer-at-the-east-county-art-association-3100
END:VEVENT

END:VCALENDAR
