BEGIN:VCALENDAR
VERSION:2.0
PRODID:-//ChamberMaster//Event Calendar 2.0//EN
METHOD:PUBLISH
X-PUBLISHED-TTL:P3D
REFRESH-INTERVAL:P3D
CALSCALE:GREGORIAN
BEGIN:VEVENT
DTSTART:20210922T003000Z
DTEND:20210922T020000Z
X-MICROSOFT-CDO-ALLDAYEVENT:FALSE
SUMMARY:Evening Mixer at The Hills Local Pub
DESCRIPTION:We are happy to announce that we are finally going to get together at The Hills Local Pub on Tuesday\, September 21st. Each year we have a mixer at his popular local "gathering spot" and we are thrilled to have set the date for this year. The fun begins at 5:30 p.m. and ends at 7:00 p.m. The Hills Local Pub is located at 8758 La Mesa Boulevard in La Mesa. Enjoy great hors d' oeuvres and Happy Hour pricing on beverages and specialty drinks\, beer and soft drinks. Join us and meet the staff of The Hills and get reacquainted with this great team. The owners Ben\, Marco\, Joe\, and Jason have created this hip\, casual watering hole that has become a favorite of locals and people throughout the region. These dynamic men have the drive and determination to support the local economy\, as well as hold charitable events\, birthday parties and other celebrations.\n\n\n\nBe sure to make plans to join us and bring your business cards while you mix and mingle! The Chamber will hold a raffle throughout the evening! The pricing for this evening mixer is Chamber Members $10.00\, $15 for guests and $20 for all "at door" attendees. Don't miss out on the fun - RSVP NOW to: rsvp@lamesachamber.com or click Register to the right.
X-ALT-DESC;FMTTYPE=text/html:We are happy to announce that we are finally going to get together at The Hills Local Pub on Tuesday\, September 21st. Each year we have a mixer at his popular local &ldquo\;gathering spot&rdquo\; and we are thrilled to have set the date for this year. The fun begins at 5:30 p.m. and ends at 7:00 p.m. The Hills Local Pub is located at 8758 La Mesa Boulevard in La Mesa. Enjoy great hors d&rsquo\; oeuvres and Happy Hour pricing on beverages and specialty drinks\, beer and soft drinks. Join us and meet the staff of The Hills and get reacquainted with this great team. The owners Ben\, Marco\, Joe\, and Jason have created this hip\, casual watering hole that has become a favorite of locals and people throughout the region. These dynamic men have the drive and determination to support the local economy\, as well as hold charitable events\, birthday parties and other celebrations.<br />\n<br />\nBe sure to make plans to join us and bring your business cards while you mix and mingle! The Chamber will hold a raffle throughout the evening! The pricing for this evening mixer is Chamber Members $10.00\, $15 for guests and $20 for all &ldquo\;at door&rdquo\; attendees. Don&rsquo\;t miss out on the fun - RSVP NOW to: <a href="mailto:rsvp@lamesachamber.com">rsvp@lamesachamber.com</a> or click Register to the right.
LOCATION:The Hills Local Pub 8758 La Mesa Boulevard in La Mesa
UID:e.460.3096
SEQUENCE:3
DTSTAMP:20260420T235236Z
URL:https://chamber.lamesachamber.net/events/details/evening-mixer-at-the-hills-local-pub-3096
END:VEVENT

END:VCALENDAR
