BEGIN:VCALENDAR
VERSION:2.0
PRODID:-//ChamberMaster//Event Calendar 2.0//EN
METHOD:PUBLISH
X-PUBLISHED-TTL:P3D
REFRESH-INTERVAL:P3D
CALSCALE:GREGORIAN
BEGIN:VEVENT
DTSTART:20220811T003000Z
DTEND:20220811T020000Z
X-MICROSOFT-CDO-ALLDAYEVENT:FALSE
SUMMARY:Evening Mixer at The Hills Local Pub
DESCRIPTION:On Wednesday\, August 10\, 2022\, the La Mesa Chamber of Commerce will be hosting an evening mixer with The Hills Local Pub in La Mesa located at 8758 La Mesa Boulevard. This business mixer will be held between the hours of 5:30 p.m.   7:00 p.m. The owners of The Hills Local Pub: Ben\, Marco\, Joe and Jason have created this hip\, casual watering hole that has become a favorite of locals and people throughout the region. These young men have the drive and determination to support the local economy while offering a great place to relax and gather with friends. The mixer begins at 5:30 p.m. and will continue until 7:00 p.m. Enjoy great hors d'oeuvres and special drink pricing throughout the evening. The Chamber is thrilled to spotlight this local business and invite members and friends to join in a fun-filled evening. The Chamber will host a raffle throughout the evening. This event is free to Chamber Members\, $15.00 per person for guests and $25 for all "at door" attendees. Don't miss out on the fun!
X-ALT-DESC;FMTTYPE=text/html:On Wednesday\, August 10\, 2022\, the La Mesa Chamber of Commerce will be hosting an evening mixer with The Hills Local Pub in La Mesa located at 8758 La Mesa Boulevard. This business mixer will be held between the hours of 5:30 p.m. &ndash\; 7:00 p.m. The owners of The Hills Local Pub: Ben\, Marco\, Joe and Jason have created this hip\, casual watering hole that has become a favorite of locals and people throughout the region. These young men have the drive and determination to support the local economy while offering a great place to relax and gather with friends. The mixer begins at 5:30 p.m. and will continue until 7:00 p.m. Enjoy great hors d&rsquo\;oeuvres and special drink pricing throughout the evening. The Chamber is thrilled to spotlight this local business and invite members and friends to join in a fun-filled evening. The Chamber will host a raffle throughout the evening. This event is free to Chamber Members\, $15.00 per person for guests and $25 for all &ldquo\;at door&rdquo\; attendees. Don&rsquo\;t miss out on the fun!
LOCATION:The Hills Local Pub 8758 La Mesa Boulevard in La Mesa
UID:e.460.3150
SEQUENCE:3
DTSTAMP:20260420T054406Z
URL:https://chamber.lamesachamber.net/events/details/evening-mixer-at-the-hills-local-pub-3150
END:VEVENT

END:VCALENDAR
