BEGIN:VCALENDAR
VERSION:2.0
PRODID:-//ChamberMaster//Event Calendar 2.0//EN
METHOD:PUBLISH
X-PUBLISHED-TTL:P3D
REFRESH-INTERVAL:P3D
CALSCALE:GREGORIAN
BEGIN:VEVENT
DTSTART:20220407T003000Z
DTEND:20220407T020000Z
X-MICROSOFT-CDO-ALLDAYEVENT:FALSE
SUMMARY:Evening Mixer Hosted by Grossmont Center and BJ's Restaurant and Brewhouse
DESCRIPTION:Get ready to sample great food prepared by the BJ's staff and know why this organization of restaurants is so popular! Enjoy heavy hors d'oeuvres and a "no host" bar will be offered where you may purchase a great variety of BJ's award-winning brews on tap every day.\n\n\n\nBring your business cards and join us for great food\, hand crafted beer\, raffles and more! \n\n\n\nCost: \n\nChamber Members: FREE\n\nGuests/Non-Members: $10\n\n\n\nDon't be left out   RSVP now so we know you will be joining us and prepare enough refreshments to: rsvp@lamesachamber.com or click Register.
X-ALT-DESC;FMTTYPE=text/html:Get ready to sample great food prepared by the BJ&#39\;s staff and know why this organization of restaurants is so popular! Enjoy heavy hors d&rsquo\;oeuvres and a &ldquo\;no host&rdquo\; bar will be offered where you may purchase a great variety of BJ&rsquo\;s award-winning brews on tap every day.<br />\n<br />\nBring your business cards and join us for great food\, hand crafted beer\, raffles and more!&nbsp\;<br />\n<br />\n<strong>Cost:&nbsp\;</strong><br />\nChamber Members: FREE<br />\nGuests/Non-Members: $10<br />\n<br />\nDon&rsquo\;t be left out &ndash\; RSVP now so we know you will be joining us and prepare enough refreshments to: <a href="mailto:rsvp@lamesachamber.com">rsvp@lamesachamber.com</a> or click Register.
LOCATION:5500 Grossmont Center Dr.\, La Mesa
UID:e.460.3115
SEQUENCE:3
DTSTAMP:20260420T121452Z
URL:https://chamber.lamesachamber.net/events/details/evening-mixer-hosted-by-grossmont-center-and-bj-s-restaurant-and-brewhouse-3115
END:VEVENT

END:VCALENDAR
