BEGIN:VCALENDAR
VERSION:2.0
PRODID:-//ChamberMaster//Event Calendar 2.0//EN
METHOD:PUBLISH
X-PUBLISHED-TTL:P3D
REFRESH-INTERVAL:P3D
CALSCALE:GREGORIAN
BEGIN:VEVENT
DTSTART:20231115T190000Z
DTEND:20231115T210000Z
X-MICROSOFT-CDO-ALLDAYEVENT:FALSE
SUMMARY:Grand Opening for Octapharma Plasma
DESCRIPTION:Welcome Octapharma Plasma to Our Business Community\n\n\n\nWe are happy to celebrate the opening of Octapharma Plasma to the local business community located at 6091 University Avenue in San Diego. To celebrate their arrival\, they are hosting a grand opening celebration on Wednesday\, November 15th between the hours of 11 a.m.   1 p.m.\, with an official ribbon cutting taking place at 11:30 a.m. Octapharma offers blood plasma donation services that saves lives. Join us and meet the Center Director\, Nicholas Parada\, and other staff members to learn more about this life saving profession and the services they provide.
X-ALT-DESC;FMTTYPE=text/html:<strong>Welcome Octapharma Plasma to Our Business Community</strong><br />\n<br />\nWe are happy to celebrate the opening of <a href="http://octapharmaplasma.com" target="_blank">Octapharma Plasma</a> to the local business community located at 6091 University Avenue in San Diego. To celebrate their arrival\, they are hosting a grand opening celebration on Wednesday\, November 15th between the hours of 11 a.m. &ndash\; 1 p.m.\, with an official ribbon cutting taking place at 11:30 a.m. Octapharma offers blood plasma donation services that saves lives. Join us and meet the Center Director\, Nicholas Parada\, and other staff members to learn more about this life saving profession and the services they provide.&nbsp\;
LOCATION:6091 University Avenue in San Diego
UID:e.460.3265
SEQUENCE:3
DTSTAMP:20260419T204454Z
URL:https://chamber.lamesachamber.net/events/details/grand-opening-for-octapharma-plasma-3265
END:VEVENT

END:VCALENDAR
