BEGIN:VCALENDAR
VERSION:2.0
PRODID:-//ChamberMaster//Event Calendar 2.0//EN
METHOD:PUBLISH
X-PUBLISHED-TTL:P3D
REFRESH-INTERVAL:P3D
CALSCALE:GREGORIAN
BEGIN:VEVENT
DTSTART;VALUE=DATE:20211001
DTEND;VALUE=DATE:20211011
TRANSP:TRANSPARENT
X-MICROSOFT-CDO-ALLDAYEVENT:TRUE
SUMMARY:Grossmont Center 60th Anniversary
DESCRIPTION:October 5\, 2021 is Grossmont Center's 60th anniversary!\n\n\n\nCome take a journey through the past by visiting our exhibit of Grossmont Center's history\, open October 1-10 at The Well Community for Women.\n\n\n\nJoin us on October 9 for a historical seminar by the La Mesa Historical Society\, as well as trivia\, treats and prizes!
X-ALT-DESC;FMTTYPE=text/html:October 5\, 2021 is Grossmont Center&#39\;s 60th anniversary!<br />\n<br />\nCome take a journey through the past by visiting our exhibit of Grossmont Center&#39\;s history\, open October 1-10 at The Well Community for Women.<br />\n<br />\nJoin us on October 9 for a historical seminar by the La Mesa Historical Society\, as well as trivia\, treats and prizes!
LOCATION:Grossmont Center 5500 Grossmont Center Dr\, La Mesa\, CA 91942
UID:e.460.3102
SEQUENCE:3
DTSTAMP:20260420T220318Z
URL:https://chamber.lamesachamber.net/events/details/grossmont-center-60th-anniversary-3102
END:VEVENT

END:VCALENDAR
