BEGIN:VCALENDAR
VERSION:2.0
PRODID:-//ChamberMaster//Event Calendar 2.0//EN
METHOD:PUBLISH
X-PUBLISHED-TTL:P3D
REFRESH-INTERVAL:P3D
CALSCALE:GREGORIAN
BEGIN:VEVENT
DTSTART:20220920T230000Z
DTEND:20220921T010000Z
X-MICROSOFT-CDO-ALLDAYEVENT:FALSE
SUMMARY:Groundbreaking for Grossmont Post Acute Care New Building in La Mesa
DESCRIPTION:On Tuesday\, September 20\, 2022\, the groundbreaking ceremony to celebrate the construction kick-off for the new 45\,000 square foot Grossmont Post Acute Care center will take place. The groundbreaking and celebration will be held between the hours 4 p.m.   6 p.m. at the building site of 5601 Grossmont Center Drive (the old 24-hour Fitness Center). The "official" groundbreaking will be held at 5:30 p.m. Parking is available at the existing Grossmont Post Acute Care building at 8787 Center Drive which is right by the construction site.\n\n\n\nGrossmont Post Acute Care will build on its existing experience and expertise to offer premier inpatient short-term rehabilitation and skilled nursing services\, along with outpatient rehabilitation services. Join us and meet the Executive Director of the facility\, Katherine Oh who will be joined by Ensign Services CEO\, Barry Port and COO\, Spencer Burton. Appetizers and beverages will be served. This event is complimentary but we encourage you to RSVP so we can order the refreshments accordingly. Please RSVP to: rsvp@lamesachamber.com or Register Online.
X-ALT-DESC;FMTTYPE=text/html:On Tuesday\, September 20\, 2022\, the groundbreaking ceremony to celebrate the construction kick-off for the new 45\,000 square foot Grossmont Post Acute Care center will take place. The groundbreaking and celebration will be held between the hours 4 p.m. &ndash\; 6 p.m. at the building site of 5601 Grossmont Center Drive (the old 24-hour Fitness Center). The &ldquo\;official&rdquo\; groundbreaking will be held at 5:30 p.m. Parking is available at the existing Grossmont Post Acute Care building at 8787 Center Drive which is right by the construction site.<br />\n<br />\nGrossmont Post Acute Care will build on its existing experience and expertise to offer premier inpatient short-term rehabilitation and skilled nursing services\, along with outpatient rehabilitation services. Join us and meet the Executive Director of the facility\, Katherine Oh who will be joined by Ensign Services CEO\, Barry Port and COO\, Spencer Burton. Appetizers and beverages will be served. This event is complimentary but we encourage you to RSVP so we can order the refreshments accordingly. Please RSVP to: <a href="mailto:rsvp@lamesachamber.com">rsvp@lamesachamber.com</a> or <a href="https://lamesachamber.chambermaster.com/eventregistration/register/3155">Register Online</a>.
LOCATION:Building site of 5601 Grossmont Center Drive (the old 24-hour Fitness Center). Parking is available at the existing Grossmont Post Acute Care building at 8787 Center Drive which is right by the construction site.
UID:e.460.3155
SEQUENCE:3
DTSTAMP:20260420T035308Z
URL:https://chamber.lamesachamber.net/events/details/groundbreaking-for-grossmont-post-acute-care-new-building-in-la-mesa-3155
END:VEVENT

END:VCALENDAR
