BEGIN:VCALENDAR
VERSION:2.0
PRODID:-//ChamberMaster//Event Calendar 2.0//EN
METHOD:PUBLISH
X-PUBLISHED-TTL:P3D
REFRESH-INTERVAL:P3D
CALSCALE:GREGORIAN
BEGIN:VEVENT
DTSTART:20211016T180000Z
DTEND:20211016T220000Z
X-MICROSOFT-CDO-ALLDAYEVENT:FALSE
SUMMARY:Howl-O-Ween Hounds MEGA Adoption Event
DESCRIPTION:Hundreds of pets* from dozens of local rescues and shelters.\n\n\n\nSaturday\, October 16\, 2021\n\n11am - 3pm\n\n\n\nGrossmont Center\n\n5500 Grossmont Center Dr\, La Mesa\, CA 91942\n\n\n\n*Dogs\, cats\, turtles/tortoises\, and birds!
X-ALT-DESC;FMTTYPE=text/html:Hundreds of pets* from dozens of local rescues and shelters.<br />\n<br />\nSaturday\, October 16\, 2021<br />\n11am - 3pm<br />\n<br />\nGrossmont Center<br />\n5500 Grossmont Center Dr\, La Mesa\, CA 91942<br />\n<br />\n*Dogs\, cats\, turtles/tortoises\, and birds!
LOCATION:Grossmont Center 5500 Grossmont Center Dr\, La Mesa\, CA 91942
UID:e.460.3103
SEQUENCE:3
DTSTAMP:20260420T234941Z
URL:https://chamber.lamesachamber.net/events/details/howl-o-ween-hounds-mega-adoption-event-3103
END:VEVENT

END:VCALENDAR
