BEGIN:VCALENDAR
VERSION:2.0
PRODID:-//ChamberMaster//Event Calendar 2.0//EN
METHOD:PUBLISH
X-PUBLISHED-TTL:P3D
REFRESH-INTERVAL:P3D
CALSCALE:GREGORIAN
BEGIN:VEVENT
DTSTART:20221020T003000Z
DTEND:20221020T020000Z
X-MICROSOFT-CDO-ALLDAYEVENT:FALSE
SUMMARY:Jefferson La Mesa Grand Opening & Ribbon Cutting
DESCRIPTION:The La Mesa Chamber of Commerce invites you to join us as we celebrate Jefferson La Mesa\, a new apartment complex that has been built at 4949 Baltimore Drive in La Mesa. This 230-unit luxury apartment community offers studios\, live work units/lofts\, 1-\, 2- and 3-bedroom units with nineteen distinctive floorplans.  Some of the amenities are: a dual-level fitness center\, BBQ grilling stations\, state-of-the-art yoga studio\, sparkling swimming pool with poolside cabanas with TV's\, a lively clubhouse and more.\n\n\n\nTo celebrate this new apartment community\, we are offering a fun-filled grand opening event on Wednesday\, October 19th between the hours of 5:30 p.m.   7:00 p.m. (with the official ribbon cutting taking place at 6:00 p.m.). Join us as we visit this new addition to quality housing opportunities in La Mesa. Take tours of the models\, meet the entire management team\, and enjoy samplings of bites and delicious beverages\, as you mix and mingle during this fun-filled evening with raffles and prizes. \n\n\n\nThe event is FREE to Chamber members and $20 for guests. RSVP now so we know you are joining us at: rsvp@lamesachamber.com or register here.
X-ALT-DESC;FMTTYPE=text/html:The La Mesa Chamber of Commerce invites you to join us as we celebrate <a href="https://www.jeffersonlamesa.com/" target="_blank">Jefferson La Mesa</a>\, a new apartment complex that has been built at 4949 Baltimore Drive in La Mesa. This 230-unit luxury apartment community offers studios\, live work units/lofts\, 1-\, 2- and 3-bedroom units with nineteen distinctive floorplans.&nbsp\; Some of the amenities are: a dual-level fitness center\, BBQ grilling stations\, state-of-the-art yoga studio\, sparkling swimming pool with poolside cabanas with TV&rsquo\;s\, a lively clubhouse and more.<br />\n<br />\nTo celebrate this new apartment community\, we are offering a fun-filled grand opening event on Wednesday\, October 19th between the hours of 5:30 p.m. &ndash\; 7:00 p.m. (with the official ribbon cutting taking place at 6:00 p.m.). Join us as we visit this new addition to quality housing opportunities in La Mesa. Take tours of the models\, meet the entire management team\, and enjoy samplings of bites and delicious beverages\, as you mix and mingle during this fun-filled evening with raffles and prizes.&nbsp\;<br />\n<br />\nThe event is FREE to Chamber members and $20 for guests. RSVP now so we know you are joining us at: <a href="mailto:rsvp@lamesachamber.com">rsvp@lamesachamber.com</a> or <a href="https://lamesachamber.chambermaster.com/eventregistration/register/3163" target="_blank">register here</a>.
LOCATION:4949 Baltimore Drive in La Mesa
UID:e.460.3163
SEQUENCE:3
DTSTAMP:20260420T020817Z
URL:https://chamber.lamesachamber.net/events/details/jefferson-la-mesa-grand-opening-ribbon-cutting-3163
END:VEVENT

END:VCALENDAR
