BEGIN:VCALENDAR
VERSION:2.0
PRODID:-//ChamberMaster//Event Calendar 2.0//EN
METHOD:PUBLISH
X-PUBLISHED-TTL:P3D
REFRESH-INTERVAL:P3D
CALSCALE:GREGORIAN
BEGIN:VEVENT
DTSTART:20211006T170000Z
DTEND:20211006T220000Z
X-MICROSOFT-CDO-ALLDAYEVENT:FALSE
SUMMARY:Job Fair at Sycuan Casino Resort
DESCRIPTION:Job Fair at Sycuan Casino Resort - October 6!\n\n\n\nJoin the FUN family at Sycuan Casino Resort! Over 200+ positions!\n\n\n\nSycuan Casino Resort is hosting a job fair on Wednesday\, October 6 from 10AM-3PM in the Wachena Event Center.\n\n\n\nDuring the job fair\, hiring managers will be interviewing applicants and making on-the-spot job offers for specific departments. Those interested in attending the job fair are encouraged to bring multiple copies of their resume. All health and safety protocols will be strictly enforced during the event.\n\n\n\nSycuan offers several great employee benefits including health\, dental\, vision and life insurance\, 401(k) retirement savings plans and company matching\, corporate discounts and paid time off. Additionally\, employees can take advantage of free transportation to and from work by using Sycuan shuttle busses throughout San Diego County.\n\n\n\nIt's time to join our growing team! 56% of our Supervisors have been promoted from within! For further details or questions\, please email us at jobfair@sycuan.com.\n\n\n\nSee you soon!\n\n\n\nFor more information\, visit: www.sycuan.com/employment
X-ALT-DESC;FMTTYPE=text/html:Job Fair at Sycuan Casino Resort - October 6!<br />\n<br />\nJoin the FUN family at Sycuan Casino Resort! Over 200+ positions!<br />\n<br />\nSycuan Casino Resort is hosting a job fair on Wednesday\, October 6 from 10AM-3PM in the Wachena Event Center.<br />\n<br />\nDuring the job fair\, hiring managers will be interviewing applicants and making on-the-spot job offers for specific departments. Those interested in attending the job fair are encouraged to bring multiple copies of their resume. All health and safety protocols will be strictly enforced during the event.<br />\n<br />\nSycuan offers several great employee benefits including health\, dental\, vision and life insurance\, 401(k) retirement savings plans and company matching\, corporate discounts and paid time off. Additionally\, employees can take advantage of free transportation to and from work by using Sycuan shuttle busses throughout San Diego County.<br />\n<br />\nIt&rsquo\;s time to join our growing team! 56% of our Supervisors have been promoted from within! For further details or questions\, please email us at <a href="mailto:jobfair@sycuan.com">jobfair@sycuan.com</a>.<br />\n<br />\nSee you soon!<br />\n<br />\nFor more information\, visit: <a href="http://www.sycuan.com/employment" target="_blank">www.sycuan.com/employment</a>
LOCATION:Sycuan Casino Resort Wachena Event Center 5469 Casino Way\, El Cajon\, CA 92019
UID:e.460.3101
SEQUENCE:3
DTSTAMP:20260420T221130Z
URL:https://chamber.lamesachamber.net/events/details/job-fair-at-sycuan-casino-resort-3101
END:VEVENT

END:VCALENDAR
