BEGIN:VCALENDAR
VERSION:2.0
PRODID:-//ChamberMaster//Event Calendar 2.0//EN
METHOD:PUBLISH
X-PUBLISHED-TTL:P3D
REFRESH-INTERVAL:P3D
CALSCALE:GREGORIAN
BEGIN:VEVENT
DTSTART:20210915T233000Z
DTEND:20210916T013000Z
X-MICROSOFT-CDO-ALLDAYEVENT:FALSE
SUMMARY:Joint Mixer at Lantern Crest with La Mesa and Santee Chambers
DESCRIPTION:Calling All La Mesa Chamber Members - Join Us & Meet Members From the Santee Chamber\n\nHere's a Chance to Mix & Mingle With Members From Another Chamber \n\nWhen People Get Together - Great Things Happen! Join Us & Let's Make Great Things Happen!\n\n\nWe believe great things will happen on Wednesday\, September 15th. That's  when the La Mesa Chamber and the Santee Chamber get together at Lantern Crest Senior Living's newest building - The Plaza! This is going to be a great way to mingle with La Mesa Chamber folks AND meet new business owners from the Santee Chamber. This mixer is limited to the first 50 Chamber Members from each chamber that RSVP. You will enjoy great appetizers prepared by the acclaimed Chef Marco and hosted beer\, wine and soft drinks and more! Karina Cunningham\, one of our hosts will be offering a FREE raffle.  Be sure and bring your business cards to the mixer - that's the only way you can enter the drawing!  \n\n\n\nThis Members-Only Mixer Details Are:\n\n\n\nDate: Wednesday\, September 15th\n\n\n\nTime: 4:30 p.m. - 6:30 p.m.\n\n\n\nLocation: Lantern Crest Senior Living\n\n300 Lantern Crest Way - Santee\n\nLots of parking available - all around the building\n\nBeing Held in the 50's Diner - Complete with a bowling alley\n\n\n\nCost: FREE - Members of the Santee Chamber and La Mesa Chamber only\n\n\n\nRSVP to rsvp@lamesachamber.com or click Register to the right.
X-ALT-DESC;FMTTYPE=text/html:<div style="text-align: center\;"><strong>Calling All La Mesa Chamber Members - Join Us &amp\; Meet Members From the Santee Chamber<br />\nHere&rsquo\;s a Chance to Mix &amp\; Mingle With Members From Another Chamber&nbsp\;<br />\nWhen People Get Together - Great Things Happen! Join Us &amp\; Let&rsquo\;s Make Great Things Happen!</strong></div>\n<br />\nWe believe great things will happen on Wednesday\, September 15th. That&rsquo\;s&nbsp\; when the La Mesa Chamber and the Santee Chamber get together at Lantern Crest Senior Living&rsquo\;s newest building - The Plaza! This is going to be a great way to mingle with La Mesa Chamber folks AND meet new business owners from the Santee Chamber. This mixer is limited to the first 50 Chamber Members from each chamber that RSVP. You will enjoy great appetizers prepared by the acclaimed Chef Marco and hosted beer\, wine and soft drinks and more! Karina Cunningham\, one of our hosts will be offering a FREE raffle.&nbsp\; Be sure and bring your business cards to the mixer - that&rsquo\;s the only way you can enter the drawing!&nbsp\;&nbsp\;<br />\n<br />\nThis Members-Only Mixer Details Are:<br />\n<br />\nDate:&nbsp\;Wednesday\, September 15th<br />\n<br />\nTime: 4:30 p.m. - 6:30 p.m.<br />\n<br />\nLocation:&nbsp\;Lantern Crest Senior Living<br />\n300 Lantern Crest Way - Santee<br />\nLots of parking available - all around the building<br />\nBeing Held in the 50&rsquo\;s Diner - Complete with a bowling alley<br />\n<br />\nCost:&nbsp\;FREE - Members of the Santee Chamber and La Mesa Chamber only<br />\n<br />\nRSVP to <a href="mailto:rsvp@lamesachamber.com">rsvp@lamesachamber.com</a> or click Register to the right.
LOCATION:300 Lantern Crest Way Santee\, CA 92071 Parking available all around The Plaza building.
UID:e.460.3094
SEQUENCE:3
DTSTAMP:20260420T235338Z
URL:https://chamber.lamesachamber.net/events/details/joint-mixer-at-lantern-crest-with-la-mesa-and-santee-chambers-3094
END:VEVENT

END:VCALENDAR
