BEGIN:VCALENDAR
VERSION:2.0
PRODID:-//ChamberMaster//Event Calendar 2.0//EN
METHOD:PUBLISH
X-PUBLISHED-TTL:P3D
REFRESH-INTERVAL:P3D
CALSCALE:GREGORIAN
BEGIN:VEVENT
DTSTART:20220916T000000Z
DTEND:20220916T020000Z
X-MICROSOFT-CDO-ALLDAYEVENT:FALSE
SUMMARY:Joint Mixer at Lantern Crest with La Mesa and Santee Chambers
DESCRIPTION:Calling All La Mesa Chamber Members - Join Us & Meet Members From the Santee Chamber\n\nHere's a Chance to Mix & Mingle With Members From Another Chamber \n\nWhen People Get Together - Great Things Happen! Join Us & Let's Make Great Things Happen!\n\n\nWe believe great things will happen on Thursday\, September 15th. That's  when the La Mesa Chamber and the Santee Chamber get together at Lantern Crest Senior Living! This is going to be a great way to mingle with La Mesa Chamber folks AND meet new business owners from the Santee Chamber. The staff at Lantern Crest will prepare excellent food and offer signature beverages to celebrate this special mixer. Lantern Crest will hold a business card raffle\, so bring your business cards! We will also have the opportunity to participate in another raffle\, with the proceeds of that raffle going to the Lantern Crest Foundation. \n\n\n\nThis Members-Only Mixer Details Are:\n\n\n\nDate: Thursday\, September 15\, 2022\n\n\n\nTime: 5 - 7 p.m.\n\n\n\nLocation: Lantern Crest Senior Living\n\n300 Lantern Crest Way - Santee\n\nLots of parking available - all around the building\n\n\n\nCost:\n\nMembers of the Santee Chamber and La Mesa Chamber: FREE\n\nGuests: $20\n\n\n\nRSVP to rsvp@lamesachamber.com or click Register to the right.
X-ALT-DESC;FMTTYPE=text/html:<div style="text-align: center\;"><strong>Calling All La Mesa Chamber Members - Join Us &amp\; Meet Members From the Santee Chamber<br />\nHere&rsquo\;s a Chance to Mix &amp\; Mingle With Members From Another Chamber&nbsp\;<br />\nWhen People Get Together - Great Things Happen! Join Us &amp\; Let&rsquo\;s Make Great Things Happen!</strong></div>\n<br />\nWe believe great things will happen on Thursday\, September 15th. That&rsquo\;s&nbsp\; when the La Mesa Chamber and the Santee Chamber get together at Lantern Crest Senior Living! This is going to be a great way to mingle with La Mesa Chamber folks AND meet new business owners from the Santee Chamber. The staff at Lantern Crest will prepare excellent food and offer signature beverages to celebrate this special mixer. Lantern Crest will hold a business card raffle\, so bring your business cards!&nbsp\;We will also have the opportunity to participate in another raffle\, with the proceeds of that raffle going to the Lantern Crest Foundation.&nbsp\;<br />\n<br />\nThis Members-Only Mixer Details Are:<br />\n<br />\n<strong>Date:</strong>&nbsp\;Thursday\, September 15\, 2022<br />\n<br />\n<strong>Time:</strong> 5 - 7 p.m.<br />\n<br />\n<strong>Location:&nbsp\;</strong>Lantern Crest Senior Living<br />\n300 Lantern Crest Way - Santee<br />\nLots of parking available - all around the building<br />\n<br />\n<strong>Cost:</strong><br />\nMembers of the Santee Chamber and La Mesa Chamber: FREE<br />\nGuests: $20<br />\n<br />\nRSVP to <a href="mailto:rsvp@lamesachamber.com">rsvp@lamesachamber.com</a> or click Register to the right.
LOCATION:300 Lantern Crest Way Santee\, CA 92071 Parking available all around The Plaza building.
UID:e.460.3118
SEQUENCE:3
DTSTAMP:20260420T034923Z
URL:https://chamber.lamesachamber.net/events/details/joint-mixer-at-lantern-crest-with-la-mesa-and-santee-chambers-3118
END:VEVENT

END:VCALENDAR
