BEGIN:VCALENDAR
VERSION:2.0
PRODID:-//ChamberMaster//Event Calendar 2.0//EN
METHOD:PUBLISH
X-PUBLISHED-TTL:P3D
REFRESH-INTERVAL:P3D
CALSCALE:GREGORIAN
BEGIN:VEVENT
DTSTART;VALUE=DATE:20221210
DTEND;VALUE=DATE:20221227
TRANSP:TRANSPARENT
X-MICROSOFT-CDO-ALLDAYEVENT:TRUE
SUMMARY:LA MESA CHAMBER OFFICE CLOSED
DESCRIPTION:The La Mesa Chamber Wishes You a Safe and Healthy Holiday Season - The Chamber Office Will Be Closed from December 10th thru January 2nd\n\n\nAs we all prepare for the upcoming holiday season\, we want to wish you and your families our best wishes!  We have had a busy year and we are now focused on completing our annual charitable projects  adopting our homebound seniors and adopting the children of military families.  It is our goal to put smiles on the faces of our recipients and let them know they are not forgotten during this holiday season.  We wish you all a safe and healthy New Year.  We are thrilled to celebrate our 15th Anniversary in 2023\, so stay tuned as we make plans to include that fact during our activities next year!\n\n\n\nIf you have a need\, contact our Finance Manager\, David Smyle at 619-602-6365.
X-ALT-DESC;FMTTYPE=text/html:<div style="text-align: center\;"><strong>The La Mesa Chamber Wishes You a Safe and Healthy Holiday Season - The Chamber Office Will Be Closed from December 10th thru January 2nd</strong></div>\n<br />\nAs we all prepare for the upcoming holiday season\, we want to wish you and your families our best wishes!&nbsp\; We have had a busy year and we are now focused on completing our annual charitable projects &ndash\;adopting our homebound seniors and adopting the children of military families.&nbsp\; It is our goal to put smiles on the faces of our recipients and let them know they are not forgotten during this holiday season.&nbsp\; We wish you all a safe and healthy New Year.&nbsp\; We are thrilled to celebrate our 15th Anniversary in 2023\, so stay tuned as we make plans to include that fact during our activities next year!<br />\n<br />\nIf you have a need\, contact our Finance Manager\, David Smyle at 619-602-6365.
LOCATION:
UID:e.460.3193
SEQUENCE:3
DTSTAMP:20260419T222708Z
URL:https://chamber.lamesachamber.net/events/details/la-mesa-chamber-office-closed-3193
END:VEVENT

END:VCALENDAR
