BEGIN:VCALENDAR
VERSION:2.0
PRODID:-//ChamberMaster//Event Calendar 2.0//EN
METHOD:PUBLISH
X-PUBLISHED-TTL:P3D
REFRESH-INTERVAL:P3D
CALSCALE:GREGORIAN
BEGIN:VEVENT
DTSTART:20220409T170000Z
DTEND:20220409T200000Z
X-MICROSOFT-CDO-ALLDAYEVENT:FALSE
SUMMARY:La Mesa Earth Day Fair
DESCRIPTION:Join the La Mesa Park & Recreation Foundation in partnership with the City of La Mesa to celebrate a FREE family-friendly Earth Day Fair on Saturday\, April 9 from 10 AM to 1 PM \n\nat MacArthur Park\, 4900 Memorial Drive\, La Mesa\, CA. \n\n\n\nThe event welcomes all ages and will showcase fun\, educational\, and sustainable activities\, products\, and services.\n\n	Bike Rodeo   Bicycle helmet fitting and giveaways (while supplies last)\, a skills course\, and educational materials (Bring a bike and helmet!)\n	Community Garden   Garden tour\, seed give-a-ways\, \n	Electric Car Display   Check out electric vehicles that help lower the carbon footprint\n	Fix-it Clinic - Bring your broken\, non-functioning items: electronics\, appliances\, computers\, toys\, etc. for assessment\, disassembly\, and possible repair\n	Food Truck   Simply Fresh Gourmet Food Truck - Keep it Simple! Keep it Fresh! \n	Kids Zone   Enjoy a fun obstacle course\, cornhole\, arts & crafts\, and educational activities \n	Mad Science   Entertaining and educational science show\n	Tree ID Walk   Guided tour\, tree seed packs\, and information
X-ALT-DESC;FMTTYPE=text/html:Join the La Mesa Park &amp\; Recreation Foundation in partnership with the City of La Mesa to celebrate a FREE family-friendly Earth Day Fair on Saturday\, April 9 from 10 AM to 1 PM&nbsp\;<br />\nat MacArthur Park\, 4900 Memorial Drive\, La Mesa\, CA.&nbsp\;<br />\n<br />\nThe event welcomes all ages and will showcase fun\, educational\, and sustainable activities\, products\, and services.\n<ul>\n	<li>Bike Rodeo &ndash\; Bicycle helmet fitting and giveaways (while supplies last)\, a skills course\, and educational materials (Bring a bike and helmet!)</li>\n	<li>Community Garden &ndash\; Garden tour\, seed give-a-ways\,&nbsp\;</li>\n	<li>Electric Car Display &ndash\; Check out electric vehicles that help lower the carbon footprint</li>\n	<li>Fix-it Clinic - Bring your broken\, non-functioning items: electronics\, appliances\, computers\, toys\, etc. for assessment\, disassembly\, and possible repair</li>\n	<li>Food Truck &ndash\; Simply Fresh Gourmet Food Truck - Keep it Simple! Keep it Fresh!&nbsp\;</li>\n	<li>Kids Zone &ndash\; Enjoy a fun obstacle course\, cornhole\, arts &amp\; crafts\, and educational activities&nbsp\;</li>\n	<li>Mad Science &ndash\; Entertaining and educational science show</li>\n	<li>Tree ID Walk &ndash\; Guided tour\, tree seed packs\, and information&nbsp\;</li>\n</ul>\n
LOCATION:MacArthur Park 4900 Memorial Drive La Mesa\, CA
UID:e.460.3116
SEQUENCE:3
DTSTAMP:20260420T135635Z
URL:https://chamber.lamesachamber.net/events/details/la-mesa-earth-day-fair-3116
END:VEVENT

END:VCALENDAR
