BEGIN:VCALENDAR
VERSION:2.0
PRODID:-//ChamberMaster//Event Calendar 2.0//EN
METHOD:PUBLISH
X-PUBLISHED-TTL:P3D
REFRESH-INTERVAL:P3D
CALSCALE:GREGORIAN
BEGIN:VEVENT
DTSTART:20230603T170000Z
DTEND:20230603T170000Z
X-MICROSOFT-CDO-ALLDAYEVENT:FALSE
SUMMARY:La Mesa Flag Day Parade
DESCRIPTION:The annual Flag Day Parade begins at 10:00 a.m.\, at the intersection of Memorial Dr\, University Ave. and La Mesa Blvd. and heads west through the La Mesa Village to Acacia Avenue. The Grossmont High School Royal Blue Regiment and the Navy Junior ROTC Color Guard will lead the parade.\n\n \n\nThis year's Grand Marshal is Carol Lockwood who was chosen to be honored based on her more than 50 years of service as an educator with the Grossmont Unified School District and involvement in numerous city projects\, committees and programs.\n\n\n\nThe La Mesa Community Relations and Veterans Commission will be providing free ice cream bars at "The Lookout" at Legacy Park on the corner of La Mesa Blvd.\, 4th St.\, and Allison Ave. while supplies last.\n\n\n\nLimited parking will be available in the Civic Center parking lot located at Date St. across from the La Mesa police station. The City encourages attendees to walk or take public transportation to the event.\n\n\n\nIn addition to donations from community members\, the La Mesa Flag Day Parade is sponsored by EDCO\, Sedona Ford and the La Mesa Village Association. For more information\, contact mhowell@cityoflamesa.us or visit the City's website. Everyone is invited to share in this free and fun event!
X-ALT-DESC;FMTTYPE=text/html:The annual Flag Day Parade begins at 10:00 a.m.\, at the intersection of Memorial Dr\, University Ave. and La Mesa Blvd. and heads west through the La Mesa Village to Acacia Avenue. The Grossmont High School Royal Blue Regiment and the Navy Junior ROTC Color Guard will lead the parade.<br />\n&nbsp\;<br />\nThis year&rsquo\;s Grand Marshal is Carol Lockwood who was chosen to be honored based on her more than 50 years of service as an educator with the Grossmont Unified School District and involvement in numerous city projects\, committees and programs.<br />\n<br />\nThe La Mesa Community Relations and Veterans Commission will be providing free ice cream bars at &ldquo\;The Lookout&rdquo\; at Legacy Park on the corner of La Mesa Blvd.\, 4th St.\, and Allison Ave. while supplies last.<br />\n<br />\nLimited parking will be available in the Civic Center parking lot located at Date St. across from the La Mesa police station. The City encourages attendees to walk or take public transportation to the event.<br />\n<br />\nIn addition to donations from community members\, the La Mesa Flag Day Parade is sponsored by EDCO\, Sedona Ford and the La Mesa Village Association. For more information\, contact <a href="mailto:mhowell@cityoflamesa.us">mhowell@cityoflamesa.us</a> or visit the <a href="https://www.cityoflamesa.us/409/Special-Events" target="_blank">City&rsquo\;s website</a>. Everyone is invited to share in this free and fun event!
LOCATION:Begins at the intersection of Memorial Dr\, University Ave. and La Mesa Blvd. and heads west through the La Mesa Village to Acacia Avenue.
UID:e.460.3234
SEQUENCE:3
DTSTAMP:20260419T125149Z
URL:https://chamber.lamesachamber.net/events/details/la-mesa-flag-day-parade-3234
END:VEVENT

END:VCALENDAR
