BEGIN:VCALENDAR
VERSION:2.0
PRODID:-//ChamberMaster//Event Calendar 2.0//EN
METHOD:PUBLISH
X-PUBLISHED-TTL:P3D
REFRESH-INTERVAL:P3D
CALSCALE:GREGORIAN
BEGIN:VEVENT
DTSTART:20220809T010000Z
DTEND:20220809T030000Z
X-MICROSOFT-CDO-ALLDAYEVENT:FALSE
SUMMARY:La Mesa Police Department Presents Chat with the Chief
DESCRIPTION:Please join the La Mesa Police Department for the "Chat with the Chief" event to discuss public safety concerns in La Mesa and what the police department is doing about it. Save the dates for August 8\, 2022 from 6pm-8pm at Journey Community Church (8363 Center Drive\, La Mesa\, CA 91942) and August 25\, 2022 from 6pm-8pm at the La Mesa Community Center (4975 Memorial Drive\, La Mesa\, CA 91942).
X-ALT-DESC;FMTTYPE=text/html:Please join the La Mesa Police Department for the &quot\;Chat with the Chief&quot\; event to discuss public safety concerns in La Mesa and what the police department is doing about it. Save the dates for August 8\, 2022 from 6pm-8pm at Journey Community Church (8363 Center Drive\, La Mesa\, CA 91942) and August 25\, 2022 from 6pm-8pm at the La Mesa Community Center (4975 Memorial Drive\, La Mesa\, CA 91942).
LOCATION:La Mesa Community Center 4975 Memorial Drive\, La Mesa\, CA 91942
UID:e.460.3153
SEQUENCE:3
DTSTAMP:20260420T054527Z
URL:https://chamber.lamesachamber.net/events/details/la-mesa-police-department-presents-chat-with-the-chief-3153
END:VEVENT

END:VCALENDAR
