BEGIN:VCALENDAR
VERSION:2.0
PRODID:-//ChamberMaster//Event Calendar 2.0//EN
METHOD:PUBLISH
X-PUBLISHED-TTL:P3D
REFRESH-INTERVAL:P3D
CALSCALE:GREGORIAN
BEGIN:VEVENT
DTSTART;VALUE=DATE:20230103
DTEND;VALUE=DATE:20230107
TRANSP:TRANSPARENT
X-MICROSOFT-CDO-ALLDAYEVENT:TRUE
SUMMARY:La Mesa Winter Camp - Traditional Day Camp
DESCRIPTION:Day Camp is a traditional camp for boys and girls ages 6 through 13 years. Activities include: crafts\, games\, theme activities. Camp meets 7:00 AM to 6:00 PM. Drop off times are between 7:00 AM-9:00 AM. Pick-up times 3:00 PM-6:00 PM. ID check required at check-in and check-out. Bring a sack lunch\, 2 snacks\, water bottle\, sunscreen in a backpack each day.
X-ALT-DESC;FMTTYPE=text/html:Day Camp is a traditional camp for boys and girls ages 6 through 13 years. Activities include: crafts\, games\, theme activities. Camp meets 7:00 AM to 6:00 PM. Drop off times are between 7:00 AM-9:00 AM. Pick-up times 3:00 PM-6:00 PM. ID check required at check-in and check-out. Bring a sack lunch\, 2 snacks\, water bottle\, sunscreen in a backpack each day.
LOCATION:La Mesa Community Center Arbor View Room South\, 4975 Memorial Drive\, La Mesa\, CA 91942
UID:e.460.3191
SEQUENCE:3
DTSTAMP:20260419T204614Z
URL:https://chamber.lamesachamber.net/events/details/la-mesa-winter-camp-traditional-day-camp-3191
END:VEVENT

END:VCALENDAR
