BEGIN:VCALENDAR
VERSION:2.0
PRODID:-//ChamberMaster//Event Calendar 2.0//EN
METHOD:PUBLISH
X-PUBLISHED-TTL:P3D
REFRESH-INTERVAL:P3D
CALSCALE:GREGORIAN
BEGIN:VEVENT
DTSTART:20220428T000000Z
DTEND:20220428T000000Z
X-MICROSOFT-CDO-ALLDAYEVENT:FALSE
SUMMARY:Oakwood Escrow Ribbon Cutting
DESCRIPTION:The La Mesa Chamber invites you to join them in welcoming Oakwood Escrow to our business community on Wednesday\, April 27th. The open house begins at 5 p.m.\, with the "official" ribbon cutting scheduled for 6 p.m. Join us and meet owner\, Haley Kremensky and her team at Oakwood Escrow located at 8697 La Mesa Blvd.\, Ste. D in La Mesa. Refreshments and delicious beverages will be served. Haley and looks forward to meeting you. RSVP to: rsvp@lamesachaber.com or Register Online so Haley can prepare enough refreshments for you.
X-ALT-DESC;FMTTYPE=text/html:The La Mesa Chamber invites you to join them in welcoming Oakwood Escrow to our business community on Wednesday\, April 27th. The open house begins at 5 p.m.\, with the &ldquo\;official&rdquo\; ribbon cutting scheduled for 6 p.m. Join us and meet owner\, Haley Kremensky and her team at Oakwood Escrow located at 8697 La Mesa Blvd.\, Ste. D in La Mesa. Refreshments and delicious beverages will be served. Haley and looks forward to meeting you. RSVP to: <a href="mailto:rsvp@lamesachaber.com">rsvp@lamesachaber.com</a>&nbsp\;or <a href="https://lamesachamber.chambermaster.com/eventregistration/register/3117">Register Online</a> so Haley can prepare enough refreshments for you.&nbsp\;
LOCATION:Oakwood Escrow 8697 La Mesa Blvd.\, Ste. D in La Mesa
UID:e.460.3117
SEQUENCE:3
DTSTAMP:20260420T114616Z
URL:https://chamber.lamesachamber.net/events/details/oakwood-escrow-ribbon-cutting-3117
END:VEVENT

END:VCALENDAR
