BEGIN:VCALENDAR
VERSION:2.0
PRODID:-//ChamberMaster//Event Calendar 2.0//EN
METHOD:PUBLISH
X-PUBLISHED-TTL:P3D
REFRESH-INTERVAL:P3D
CALSCALE:GREGORIAN
BEGIN:VEVENT
DTSTART:20230419T230000Z
DTEND:20230420T010000Z
X-MICROSOFT-CDO-ALLDAYEVENT:FALSE
SUMMARY:Open House at Westmont of La Mesa
DESCRIPTION:BIRDS CHIRPING\, FLOWERS BLOOMING\n\n\n\nCome join us for a Taste of La Mesa and see what Inspired Retirement Living is about. Tantalizing appetizers and beverages will be served. Meet our welcoming residents and sign up for a personalized tour of this vibrant retirement community.\n\n\n\nAmenities: Restaurant Style Dining   Fitness Center   On-site Occupational and Physical Therapy   Indoor Pool   Game Room   Pet Friendly   Salon & Barber Shop\n\n\n\nDate: Wednesday\, April 19\, 2023\n\n\n\nLocation: 9000 Murray Drive\, La Mesa\, CA 91942\n\n\n\nIndependent & Assisted Living Rates start at $5\,195!*\n\n\n\nMemory Care Rates start at $5\,775!*\n\n\n\n*Terms and Conditions Apply\, Rates valid until 4/30
X-ALT-DESC;FMTTYPE=text/html:<strong>BIRDS CHIRPING\, FLOWERS BLOOMING</strong><br />\n<br />\nCome join us for a Taste of La Mesa and see what Inspired Retirement Living is about. Tantalizing appetizers and beverages will be served. Meet our welcoming residents and sign up for a personalized tour of this vibrant retirement community.<br />\n<br />\n<strong>Amenities:</strong> Restaurant Style Dining &bull\; Fitness Center &bull\; On-site Occupational and Physical Therapy &bull\; Indoor Pool &bull\; Game Room &bull\; Pet Friendly &bull\; Salon &amp\; Barber Shop<br />\n<br />\nDate: Wednesday\, April 19\, 2023<br />\n<br />\nLocation: 9000 Murray Drive\, La Mesa\, CA 91942<br />\n<br />\nIndependent &amp\; Assisted Living Rates start at $5\,195!*<br />\n<br />\nMemory Care Rates start at $5\,775!*<br />\n<br />\n<em>*Terms and Conditions Apply\, Rates valid until 4/30</em>
LOCATION:9000 Murray Drive La Mesa\, CA 91942
UID:e.460.3205
SEQUENCE:3
DTSTAMP:20260419T160439Z
URL:https://chamber.lamesachamber.net/events/details/open-house-at-westmont-of-la-mesa-3205
END:VEVENT

END:VCALENDAR
