BEGIN:VCALENDAR
VERSION:2.0
PRODID:-//ChamberMaster//Event Calendar 2.0//EN
METHOD:PUBLISH
X-PUBLISHED-TTL:P3D
REFRESH-INTERVAL:P3D
CALSCALE:GREGORIAN
BEGIN:VEVENT
DTSTART:20220930T003000Z
DTEND:20220930T020000Z
X-MICROSOFT-CDO-ALLDAYEVENT:FALSE
SUMMARY:Open House & Ribbon Cutting for Acapela Modern Mex
DESCRIPTION:Join us and welcome Acapela Modern Mex\, a brand NEW restaurant in La Mesa! The owners saw an empty building and decided to renovate it and open this speciality Mexican restaurant. This food is a perfect "grad and go" location to eat some of the best speciality items they prepare fresh for you. Stop in to welcome the team and give them an old-fashioned La Mesa welcome!\n\n\n\nDate: Thursday\, September 29\, 2022\n\n\n\nTime:  5:30 p.m. - 7:00 p.m.  Ribbon cutting at 6:00 p.m.\n\n\n\nLocation: 5575 Baltimore Drive\, La Mesa\n\n\n\nCost: Free to members | $15 for Guests
X-ALT-DESC;FMTTYPE=text/html:Join us and welcome Acapela Modern Mex\, a brand NEW restaurant in La Mesa! The owners saw an empty building and decided to renovate it and open this speciality Mexican restaurant. This food is a perfect &ldquo\;grad and go&rdquo\; location to eat some of the best speciality items they prepare fresh for you. Stop in to welcome the team and give them an old-fashioned La Mesa welcome!<br />\n<br />\n<strong>Date:</strong> Thursday\, September 29\, 2022<br />\n<br />\n<strong>Time:&nbsp\;</strong> 5:30 p.m. - 7:00 p.m.&nbsp\; Ribbon cutting at 6:00 p.m.<br />\n<br />\n<strong>Location:</strong> 5575 Baltimore Drive\, La Mesa<br />\n<br />\n<strong>Cost: </strong>Free to members | $15 for Guests
LOCATION:Acapela Modern Mex 5575 Baltimore Drive\, La Mesa
UID:e.460.3157
SEQUENCE:3
DTSTAMP:20260420T035047Z
URL:https://chamber.lamesachamber.net/events/details/open-house-ribbon-cutting-for-acapela-modern-mex-3157
END:VEVENT

END:VCALENDAR
