BEGIN:VCALENDAR
VERSION:2.0
PRODID:-//ChamberMaster//Event Calendar 2.0//EN
METHOD:PUBLISH
X-PUBLISHED-TTL:P3D
REFRESH-INTERVAL:P3D
CALSCALE:GREGORIAN
BEGIN:VEVENT
DTSTART:20210923T003000Z
DTEND:20210923T020000Z
X-MICROSOFT-CDO-ALLDAYEVENT:FALSE
SUMMARY:Rogue Salon Ribbon Cutting
DESCRIPTION:Join us and Welcome New Member Rogue Salon\n\n\n\nDate:  Wednesday\, September 22nd\n\n\n\nLocation:\n\nRogue Salon\n\n7520 El Cajon Blvd.\, Suite 300\, La Mesa 91942\n\n\n\nHours: 5:30 p.m. - 7:00 p.m.\n\nOfficial Ribbon Cutting happens at 6:00 p.m.\n\n\n\nJoin us to welcome this new member and enjoy delicious food & beverages\n\n\n\nMeet Tami and her staff and find out why they are a group of dedicated professionals that want to make you "Look Great and Feel Amazing"\n\n\n\nRSVP to: rsvp@lamesachamber.com
X-ALT-DESC;FMTTYPE=text/html:Join us and Welcome New Member <a href="http://roguelamesa.com" target="_blank">Rogue Salon</a><br />\n<br />\nDate:&nbsp\; Wednesday\, September 22nd<br />\n<br />\nLocation:<br />\nRogue Salon<br />\n7520 El Cajon Blvd.\, Suite 300\, La Mesa 91942<br />\n<br />\nHours: 5:30 p.m. - 7:00 p.m.<br />\nOfficial Ribbon Cutting happens at 6:00 p.m.<br />\n<br />\nJoin us to welcome this new member and enjoy delicious food &amp\; beverages<br />\n<br />\nMeet Tami and her staff and find out why they are a group of dedicated professionals that want to make you &ldquo\;Look Great and Feel Amazing&rdquo\;<br />\n<br />\nRSVP to: <a href="mailto:rsvp@lamesachamber.com">rsvp@lamesachamber.com</a>
LOCATION:Rogue Salon 7520 El Cajon Blvd.\, Suite 300\, La Mesa 91942
UID:e.460.3093
SEQUENCE:3
DTSTAMP:20260420T234905Z
URL:https://chamber.lamesachamber.net/events/details/rogue-salon-ribbon-cutting-3093
END:VEVENT

END:VCALENDAR
