BEGIN:VCALENDAR
VERSION:2.0
PRODID:-//ChamberMaster//Event Calendar 2.0//EN
METHOD:PUBLISH
X-PUBLISHED-TTL:P3D
REFRESH-INTERVAL:P3D
CALSCALE:GREGORIAN
BEGIN:VEVENT
DTSTART:20220224T010000Z
DTEND:20220224T030000Z
X-MICROSOFT-CDO-ALLDAYEVENT:FALSE
SUMMARY:San Diego Living Real Estate Open House & Ribbon Cutting
DESCRIPTION:The La Mesa Chamber of Commerce welcomes San Diego Living Real Estate\, located at 8504 La Mesa Blvd. in La Mesa to our Chamber and our business community. To celebrate this new member\, you are invited to an open house\, mixer and ribbon cutting on Wednesday\, February 23rd between the hours of 5:00 p.m.   7:00 p.m. with the "official" ribbon cutting taking place at 6:00 p.m.\n\n\n\nJoin us as we welcome San Diego Living Real Estate to our Chamber and meet Jan Farley\, Owner-Broker\, and her team. Jan has held various positions and received awards in the real estate industry such as: 2018 was President\, Pacific Southwest Association of Realtors\, in 2019 recipient of the Broker of the Year\, Pacific Southwest Association of Realtors\, 2019 recipient\, REAL awards (top 10%of REALTORS in all of San Diego County) and in 2021 served as Treasurer\, Women's Council of Realtors of Realtors\, San Diego. Jan and her team have the expertise to assist you in all your real estate needs.\n\n\n\nBring your business cards and join us for great food and delicious beverages. Don't be left out - register now to be a part of this celebration!\n\n\n\nTo promote a healthy environment\, this event is limited to the first 50 people that RSVP.
X-ALT-DESC;FMTTYPE=text/html:The La Mesa Chamber of Commerce welcomes San Diego Living Real Estate\, located at 8504 La Mesa Blvd. in La Mesa to our Chamber and our business community. To celebrate this new member\, you are invited to an open house\, mixer and ribbon cutting on Wednesday\, February 23rd between the hours of 5:00 p.m. &ndash\; 7:00 p.m. with the &ldquo\;official&rdquo\; ribbon cutting taking place at 6:00 p.m.<br />\n<br />\nJoin us as we welcome San Diego Living Real Estate to our Chamber and meet Jan Farley\, Owner-Broker\, and her team. Jan has held various positions and received awards in the real estate industry such as: 2018 was President\, Pacific Southwest Association of Realtors\, in 2019 recipient of the Broker of the Year\, Pacific Southwest Association of Realtors\, 2019 recipient\, REAL awards (top 10%of REALTORS in all of San Diego County) and in 2021 served as Treasurer\, Women&rsquo\;s Council of Realtors of Realtors\, San Diego. Jan and her team have the expertise to assist you in all your real estate needs.<br />\n<br />\nBring your business cards and join us for great food and delicious beverages. Don&rsquo\;t be left out - register now to be a part of this celebration!<br />\n<br />\nTo promote a healthy environment\, this event is limited to the first 50 people that RSVP.
LOCATION:8504 La Mesa Blvd. in La Mesa
UID:e.460.3110
SEQUENCE:3
DTSTAMP:20260420T153453Z
URL:https://chamber.lamesachamber.net/events/details/san-diego-living-real-estate-open-house-ribbon-cutting-3110
END:VEVENT

END:VCALENDAR
