BEGIN:VCALENDAR
VERSION:2.0
PRODID:-//ChamberMaster//Event Calendar 2.0//EN
METHOD:PUBLISH
X-PUBLISHED-TTL:P3D
REFRESH-INTERVAL:P3D
CALSCALE:GREGORIAN
BEGIN:VEVENT
DTSTART:20221009T180000Z
DTEND:20221009T220000Z
X-MICROSOFT-CDO-ALLDAYEVENT:FALSE
SUMMARY:SANDAG Community Fair
DESCRIPTION:Join SANDAG for a free\, family-friendly community event to learn more about the exciting and innovative future of the San Diego region.\n\n\n\nYou're invited! Join us on October 9\, 2022\, at 11 a.m. for the SANDAG Community Fair   a free\, family-friendly event featuring food trucks\, giveaways\, art\, live music\, tech demos\, and more!\n\n\n\nBring your friends and family to help us connect the San Diego region. You can make an impact! Get a sneak peek of cutting-edge projects\, innovative technology\, and the community partnerships that make it all possible.\n\n\n\nSee you there!
X-ALT-DESC;FMTTYPE=text/html:Join SANDAG for a free\, family-friendly community event to learn more about the exciting and innovative future of the San Diego region.<br />\n<br />\nYou&rsquo\;re invited! Join us on October 9\, 2022\, at 11 a.m. for the SANDAG Community Fair &ndash\; a free\, family-friendly event featuring food trucks\, giveaways\, art\, live music\, tech demos\, and more!<br />\n<br />\nBring your friends and family to help us connect the San Diego region. You can make an impact! Get a sneak peek of cutting-edge projects\, innovative technology\, and the community partnerships that make it all possible.<br />\n<br />\nSee you there!
LOCATION:Ruocco Park 585 Harbor Lane San Diego\, CA 92101
UID:e.460.3162
SEQUENCE:3
DTSTAMP:20260420T020419Z
URL:https://chamber.lamesachamber.net/events/details/sandag-community-fair-3162
END:VEVENT

END:VCALENDAR
