BEGIN:VCALENDAR
VERSION:2.0
PRODID:-//ChamberMaster//Event Calendar 2.0//EN
METHOD:PUBLISH
X-PUBLISHED-TTL:P3D
REFRESH-INTERVAL:P3D
CALSCALE:GREGORIAN
BEGIN:VEVENT
DTSTART:20231022T013000Z
DTEND:20231022T050000Z
X-MICROSOFT-CDO-ALLDAYEVENT:FALSE
SUMMARY:Spookeasy @ STMSC
DESCRIPTION:SATURDAY OCT 21\, 2023\n\n6:30   10:00 pm\n\nEast County Secret Garden @ STMSC\n\n	1920's Theme*\n	Haunted Trail\n	Costume Party & Contest\n	Live Music & Entertainment\n	Bar & Food Included with Registration\n\n* 1920's costumes not required\; all costumes are welcome.\n\n\n\nMiscellaneous\n\nSee what else is in store this year!\n\n\n	VIP Tasting Room available for VIP Registrations.\n	Premium Tastings available with Premium Registration (inside VIP Tasting Room)\n	Opportunity Drawing available for entry.\n	Cigar Bar on-site (complimentary cigars available while supplies last)\n\nPricing (per person)\n\nRegister early for the best pricing!\n\n\n	$100   Early Bird (on or before May 31st)\n	$125   Regular (on or after June 1st)\n	$150   VIP\n	$200   Premium\n\nRegister for Sponsorship\n\n\n\nAll proceeds will go to St. Madeleine Sophie's Center\, a local nonprofit that educates and empowers individuals with intellectual and developmental disabilities to realize their full potential.\n\n\n\n#spookeasy
X-ALT-DESC;FMTTYPE=text/html:<strong>SATURDAY OCT 21\, 2023</strong><br />\n6:30 &ndash\; 10:00 pm<br />\nEast County Secret Garden @ <a href="https://stmsc.org/" target="_blank">STMSC</a>\n<ul>\n	<li>1920&rsquo\;s Theme*</li>\n	<li>Haunted Trail</li>\n	<li>Costume Party &amp\; Contest</li>\n	<li>Live Music &amp\; Entertainment</li>\n	<li>Bar &amp\; Food Included with Registration</li>\n</ul>\n<em>* 1920&rsquo\;s costumes not required\; all costumes are welcome.</em><br />\n<br />\n<strong>Miscellaneous</strong><br />\n<strong>See what else is in store this year!</strong>\n\n<ul>\n	<li>VIP Tasting Room available for VIP Registrations.</li>\n	<li>Premium Tastings available with Premium Registration (inside VIP Tasting Room)</li>\n	<li>Opportunity Drawing available for entry.</li>\n	<li>Cigar Bar on-site (complimentary cigars available while supplies last)</li>\n</ul>\n<strong>Pricing (per person)<br />\nRegister early for the best pricing!</strong>\n\n<ul>\n	<li>$100 &ndash\; Early Bird (on or before May 31st)</li>\n	<li>$125 &ndash\; Regular (on or after June 1st)</li>\n	<li>$150 &ndash\; VIP</li>\n	<li>$200 &ndash\; Premium</li>\n</ul>\n<a href="https://stmsc.org/spookeasy-sponsorships/" target="_blank">Register for Sponsorship</a><br />\n<br />\nAll proceeds will go to <a href="https://stmsc.org/" target="_blank">St. Madeleine Sophie&rsquo\;s Center</a>\, a local nonprofit that educates and empowers individuals with intellectual and developmental disabilities to realize their full potential.<br />\n<br />\n#spookeasy
LOCATION:East County Secret Garden @ STMSC
UID:e.460.3262
SEQUENCE:3
DTSTAMP:20260419T191439Z
URL:https://chamber.lamesachamber.net/events/details/spookeasy-stmsc-3262
END:VEVENT

END:VCALENDAR
