BEGIN:VCALENDAR
VERSION:2.0
PRODID:-//ChamberMaster//Event Calendar 2.0//EN
METHOD:PUBLISH
X-PUBLISHED-TTL:P3D
REFRESH-INTERVAL:P3D
CALSCALE:GREGORIAN
BEGIN:VEVENT
DTSTART:20260509T170000Z
DTEND:20260509T220000Z
X-MICROSOFT-CDO-ALLDAYEVENT:FALSE
SUMMARY:Spring Craft Fair
DESCRIPTION:We will be serving up some great food at the Mt. Miguel High School Foundation Spring Craft Fair! May 9\, 10AM-3PM\, Mt Miguel High School\, 8585 Blossom Lane\, Spring Valley\, 91977 Stop by and visit us while you enjoy the fair. We'll be serving hot dogs\, nachos\, and our newest sweet treat   funnel cakes!  While you're there\, be sure to check out the many crafters featuring unique\, one-of-a-kind items that make perfect gifts for mother's day or someone special  or for yourself (because you deserve it)
X-ALT-DESC;FMTTYPE=text/html:<span style="font-family:arial\,helvetica\,sans-serif"><span style="color:rgb(0\, 0\, 0)\; font-size:18.6667px">We will be serving up some great food at the&nbsp\;</span><strong><span style="font-size:14px"><span style="font-size:16px">Mt. Miguel High School Foundation Spring Craft</span></span><span style="font-size:16px"> Fair!&nbsp\;May</span></strong><span style="color:rgb(0\, 0\, 0)\; font-size:18.6667px"><span style="font-size:16px">&nbsp\;9</span>\, 10AM-3PM\, Mt Miguel High School\, 8585 Blossom Lane\, Spring Valley\, 91977&nbsp\;Stop by and visit us while you enjoy the fair. We&rsquo\;ll be serving<span style="font-size:16px">&nbsp\;</span></span><span style="font-size:18px">hot dogs\, nachos\, and our newest sweet treat &mdash\; funnel cakes!</span><span style="color:rgb(0\, 0\, 0)\; font-size:18.6667px"><span style="font-size:18px">&nbsp\;</span> While you&#39\;re there\, be sure to check out the many crafters featuring<span style="font-size:14px">&nbsp\;</span></span><span style="font-size:16px"><span style="font-size:18px">unique\, one-of-a-kind items</span></span><span style="color:rgb(0\, 0\, 0)\; font-size:18.6667px"><span style="font-size:14px">&nbsp\;</span>that make perfect gifts for mother&#39\;s day or someone special&hellip\; or for yourself (because you deserve it)</span></span>
LOCATION:Mt Miguel High School\, 8585 Blossom Lane. Spring Valley
UID:e.460.3467
SEQUENCE:3
DTSTAMP:20260425T025343Z
URL:https://chamber.lamesachamber.net/events/details/spring-craft-fair-05-09-2026-3467
END:VEVENT

END:VCALENDAR
