BEGIN:VCALENDAR
VERSION:2.0
PRODID:-//ChamberMaster//Event Calendar 2.0//EN
METHOD:PUBLISH
X-PUBLISHED-TTL:P3D
REFRESH-INTERVAL:P3D
CALSCALE:GREGORIAN
BEGIN:VEVENT
DTSTART:20230323T000000Z
DTEND:20230323T023000Z
X-MICROSOFT-CDO-ALLDAYEVENT:FALSE
SUMMARY:"Spring Fling" Business Expo
DESCRIPTION:Save the Date!\n\n"Spring Fling" Business Expo 2023\n\n\n\nFOR FULL EVENTS DETAILS & TO PURCHASE TICKETS\, VISIT SPRINGFLING.LAMESACHAMBER.COM.\n\n\n\nThe Chamber invites you to a fun-filled evening to meet local businesses and have the opportunity to win FREE door prizes. The evening will be filled with raffles\, great samplings of delicious food from local restaurants and more!\n\n\n\nWednesday\, March 22\, 2023\n\n\n\nWhere: Courtyard by Marriott San Diego El Cajon\n\n141 N Magnolia Ave\, El Cajon\, CA 92020\n\n\n\nTime: 5:00 p.m. - 7:30 p.m.\n\n\n\nTicket Cost: $15\n\nAll tickets need to be pre-purchased. NO tickets will be sold at the door.
X-ALT-DESC;FMTTYPE=text/html:<div><span style="font-family:arial\;"><span style="font-size:14px\;"><strong><span style="color: rgb(34\, 34\, 34)\;">Save the Date!</span><br />\n<span style="color: rgb(34\, 34\, 34)\;">&quot\;Spring Fling&quot\; Business Expo 2023</span></strong></span><br style="color: rgb(34\, 34\, 34)\; font-family: arial\, sans-serif\; font-size: 12.8px\;" />\n<br />\n<span style="font-size:16px\;"><span style="font-weight: bold\; text-align: center\; color: rgb(255\, 0\, 0)\;">FOR FULL EVENTS DETAILS &amp\; TO PURCHASE TICKETS\, VISIT</span><span style="font-weight: bold\; text-align: center\;">&nbsp\;</span><a href="http://springfling.lamesachamber.com" style="font-family: arial\; font-size: 14px\; font-weight: bold\; text-align: center\;">SPRINGFLING.LAMESACHAMBER.COM</a><span style="font-weight: bold\; text-align: center\; color: rgb(255\, 0\, 0)\;">.</span></span></span><br />\n<br />\nThe Chamber invites you to a fun-filled evening to meet local businesses and have the opportunity to win FREE door prizes. The evening will be filled with raffles\, great samplings of delicious food from local restaurants and more!<br />\n<br />\n<strong>Wednesday\, March 22\, 2023</strong><br />\n<br />\n<strong>Where:</strong> Courtyard by Marriott San Diego El Cajon<br />\n141 N Magnolia Ave\, El Cajon\, CA 92020<br />\n<br />\n<strong>Time:</strong> 5:00 p.m. - 7:30 p.m.<br />\n<br />\n<strong>Ticket Cost: $15</strong><br />\nAll tickets need to be pre-purchased. NO tickets will be sold at the door.</div>\n
LOCATION:Courtyard by Marriott San Diego El Cajon 141 N Magnolia Ave\, El Cajon\, CA 9202
UID:e.460.3172
SEQUENCE:3
DTSTAMP:20260419T191925Z
URL:https://chamber.lamesachamber.net/events/details/spring-fling-business-expo-3172
END:VEVENT

END:VCALENDAR
