BEGIN:VCALENDAR
VERSION:2.0
PRODID:-//ChamberMaster//Event Calendar 2.0//EN
METHOD:PUBLISH
X-PUBLISHED-TTL:P3D
REFRESH-INTERVAL:P3D
CALSCALE:GREGORIAN
BEGIN:VEVENT
DTSTART:20220819T000000Z
DTEND:20220819T023000Z
X-MICROSOFT-CDO-ALLDAYEVENT:FALSE
SUMMARY:"Summer Bash" Business Expo 2022
DESCRIPTION:FOR FULL EVENT DETAILS\, SEE THE OFFICIAL PAGE HERE.\n\n\n\n8th Annual "Summer Bash" Business Expo 2022\n\nSave the Date for Summer Bash 2022!\n\n\n\nThe Chamber invites you to a fun-filled evening to meet local businesses and have the opportunity to win FREE door prizes. The evening will be filled with raffles\, great samplings of delicious food from local restaurants and more!\n\n\n\nWe have moved our expo to our chamber member hotel\, Courtyard by Marriot San Diego El Cajon in El Cajon. We are excited to be using the 4\,500 square-foot ballroom for our vendors and raffles\, the foyer for our registration activities and the beautiful courtyard to serve our food and offer beverages to our guests. Beverage pricing is: Beer $8\, Wine $9\, Cocktails $10\, Water $4 and Soda $4.\n\n\n\nThursday\, August 18\, 2022\n\n\n\nTime: 5:00 p.m.   7:30 p.m.\n\n\n\nWhere: Courtyard by Marriott San Diego El Cajon\n\n141 N. Magnolia Ave.\, El Cajon\n\n\n\nTickets: $10\n\nAll tickets need to be pre-purchased. NO tickets will be sold at the door.\n\n\n\nPlease note: This is a 21-year or older event.
X-ALT-DESC;FMTTYPE=text/html:<strong><span style="color:#FF0000\;">FOR FULL EVENT DETAILS\, SEE THE </span><u><a href="https://lamesachamber.net/summer-bash-business-expo/"><span style="color:#FF0000\;">OFFICIAL PAGE HERE</span></a></u><span style="color:#FF0000\;">.</span><br />\n<br />\n8th Annual &ldquo\;Summer Bash&rdquo\; Business Expo 2022</strong><br />\n<em>Save the Date for Summer Bash 2022!</em><br />\n<br />\nThe Chamber invites you to a fun-filled evening to meet local businesses and have the opportunity to win FREE door prizes. The evening will be filled with raffles\, great samplings of delicious food from local restaurants and more!<br />\n<br />\nWe have moved our expo to our chamber member hotel\, Courtyard by Marriot San Diego El Cajon in El Cajon. We are excited to be using the 4\,500 square-foot ballroom for our vendors and raffles\, the foyer for our registration activities and the beautiful courtyard to serve our food and offer beverages to our guests. Beverage pricing is: Beer $8\, Wine $9\, Cocktails $10\, Water $4 and Soda $4.<br />\n<br />\n<strong>Thursday\, August 18\, 2022</strong><br />\n<br />\n<strong>Time: </strong>5:00 p.m. &ndash\; 7:30 p.m.<br />\n<br />\n<strong>Where: </strong>Courtyard by Marriott San Diego El Cajon<br />\n141 N. Magnolia Ave.\, El Cajon<br />\n<br />\n<strong>Tickets: $10</strong><br />\nAll tickets need to be pre-purchased. NO tickets will be sold at the door.<br />\n<br />\nPlease note: This is a 21-year or older event.
LOCATION:Courtyard by Marriott San Diego El Cajon 141 N. Magnolia Ave.\, El Cajon
UID:e.460.3108
SEQUENCE:3
DTSTAMP:20260420T053508Z
URL:https://chamber.lamesachamber.net/events/details/summer-bash-business-expo-2022-3108
END:VEVENT

END:VCALENDAR
