BEGIN:VCALENDAR
VERSION:2.0
PRODID:-//ChamberMaster//Event Calendar 2.0//EN
METHOD:PUBLISH
X-PUBLISHED-TTL:P3D
REFRESH-INTERVAL:P3D
CALSCALE:GREGORIAN
BEGIN:VEVENT
DTSTART:20231109T183000Z
DTEND:20231110T063000Z
X-MICROSOFT-CDO-ALLDAYEVENT:FALSE
SUMMARY:Swing with Santa Golf Tournament
DESCRIPTION:10th annual Swing with Santa Golf Tournament\n\n\n\nWhen: Thursday\, November 9th\, 2023\n\n\n\nTime: \n\n10:30am Check In and Silent Auction opens\n\n12pm Shotgun start\n\n\n\nWhere: Singing Hills Golf Resort\, Sycuan\, Willow Glen Course (NEW course this year!)\n\n\n\nActivities:  The event features games and prizes at select holes\, gift bags for each golfer\, lunch and a silent auction.\n\n\n\nCost: \n\n	$150.00 - Individual Golfer: Admission for One Golfer\n	$600.00 - Foursome Golf Group: Admission for a Group of 4 to Golf\n	$130.00 - Sponsor a Student Golfer: 8 Needed!\n\nRegistration is now open!
X-ALT-DESC;FMTTYPE=text/html:<strong>10th annual Swing with Santa Golf Tournament</strong><br />\n<br />\n<strong>When:</strong> Thursday\, November 9th\, 2023<br />\n<br />\n<strong>Time: </strong><br />\n10:30am Check In and Silent Auction opens<br />\n12pm Shotgun start<br />\n<br />\n<strong>Where: </strong>Singing Hills Golf Resort\, Sycuan\, Willow Glen Course (NEW course this year!)<br />\n<br />\n<strong>Activities:&nbsp\;</strong> The event features games and prizes at select holes\, gift bags for each golfer\, lunch and a silent auction.<br />\n<br />\n<strong>Cost: </strong>\n<ul>\n	<li>$150.00 - Individual Golfer: Admission for One Golfer</li>\n	<li>$600.00 - Foursome Golf Group: Admission for a Group of 4 to Golf</li>\n	<li>$130.00 - Sponsor a Student Golfer: 8 Needed!</li>\n</ul>\n<a href="https://stmsc.org/center-events/register-smsc-golf-tournament/" target="_blank">Registration is now open!</a>
LOCATION:Singing Hills Golf Resort\, Sycuan\, Willow Glen Course (NEW course this year!)
UID:e.460.3263
SEQUENCE:3
DTSTAMP:20260419T204614Z
URL:https://chamber.lamesachamber.net/events/details/swing-with-santa-golf-tournament-3263
END:VEVENT

END:VCALENDAR
