BEGIN:VCALENDAR
VERSION:2.0
PRODID:-//ChamberMaster//Event Calendar 2.0//EN
METHOD:PUBLISH
X-PUBLISHED-TTL:P3D
REFRESH-INTERVAL:P3D
CALSCALE:GREGORIAN
BEGIN:VEVENT
DTSTART:20220223T013000Z
DTEND:20220223T033000Z
X-MICROSOFT-CDO-ALLDAYEVENT:FALSE
SUMMARY:Taco Tuesday with Thoughtful Creations - Meet the Makers
DESCRIPTION:We are excited to celebrate "Taco Tuesday" with our friends at Thoughtful Creations. Join us for our First "evening mixer" of 2022! Shawndie Smith\, the creative owner of Thoughtful Creations is opening her doors and hosting a "Taco Tuesday" evening to enjoy! In addition to the tacos and other delicious refreshments\, you will be able to meet the vendors that will be showcasing their works of art and other handmade items for sale.  Participate in raffles throughout the evening\, as well as silent auction items for your bidding pleasure!\n\n\n\nDate: Tuesday\, February 22nd\n\n\n\nTime: 5:30 p.m. - 7:30 p.m.\n\n\n\nLocation: Thoughtful Creations\n\n8270 La Mesa Blvd. - La Mesa\n\n\n\nCost: Free to all attendees\n\n\n\nEvening sponsors are: Dragonfly Market & Pacific Coast Market\n\n\n\nPlease RSVP so that Shawndie can prepare enough food and refreshments for you. Register here or email us at RSVP@lamesachamber.com.
X-ALT-DESC;FMTTYPE=text/html:We are excited to celebrate &ldquo\;Taco Tuesday&quot\; with our friends at Thoughtful Creations. Join us for our First &ldquo\;evening mixer&rdquo\; of 2022! Shawndie Smith\, the creative owner of Thoughtful Creations is opening her doors and hosting a &ldquo\;Taco Tuesday&rdquo\; evening to enjoy! In addition to the tacos and other delicious refreshments\, you will be able to meet the vendors that will be showcasing their works of art and other handmade items for sale.&nbsp\; Participate in raffles throughout the evening\, as well as silent auction items for your bidding pleasure!<br />\n<br />\n<strong>Date: </strong>Tuesday\, February 22nd<br />\n<br />\n<strong>Time: </strong>5:30 p.m. - 7:30 p.m.<br />\n<br />\n<strong>Location:</strong> Thoughtful Creations<br />\n8270 La Mesa Blvd. - La Mesa<br />\n<br />\n<strong>Cost:</strong> Free to all attendees<br />\n<br />\nEvening sponsors are: Dragonfly Market &amp\; Pacific Coast Market<br />\n<br />\nPlease RSVP so that Shawndie can prepare enough food and refreshments for you. <a href="https://lamesachamber.chambermaster.com/eventregistration/register/3113" target="_blank">Register here</a> or email us at <a href="mailto:RSVP@lamesachamber.com?subject=RSVP%3A%20Taco%20Tuesday%20with%20Thoughtful%20Creations%20-%20Meet%20the%20Makers">RSVP@lamesachamber.com</a>.
LOCATION:Thoughtful Creations 8270 La Mesa Blvd. - La Mesa
UID:e.460.3113
SEQUENCE:3
DTSTAMP:20260420T151918Z
URL:https://chamber.lamesachamber.net/events/details/taco-tuesday-with-thoughtful-creations-meet-the-makers-3113
END:VEVENT

END:VCALENDAR
