BEGIN:VCALENDAR
VERSION:2.0
PRODID:-//ChamberMaster//Event Calendar 2.0//EN
METHOD:PUBLISH
X-PUBLISHED-TTL:P3D
REFRESH-INTERVAL:P3D
CALSCALE:GREGORIAN
BEGIN:VEVENT
DTSTART:20210831T000000Z
DTEND:20210831T030000Z
X-MICROSOFT-CDO-ALLDAYEVENT:FALSE
SUMMARY:Taste of San Diego - East
DESCRIPTION:FOR FULL EVENTS DETAILS & TO PURCHASE TICKETS\, VISIT: TASTE.LAMESACHAMBER.COM\n\n\n\nNEW DATE: Monday\, August 30\, 2021\n\n\n\nTime: 5:00 p.m. - 8:00 p.m.\n\n\n\nWhere: Town and Country San Diego - 500 Hotel Circle North in Mission Valley\n\n\n\nCost:\n\nVIP tasting: $60 for 3 hours of tasting from 5:00 p.m. - 8:00 p.m.\n\nGeneral Admission $40 for 2 hours of tasting from 6:00 p.m. - 8:00 p.m.\n\n\n\nBeverages: Please note that ticket pricing does NOT include beverages. House wine and Domestic beers may be purchased for $6.00 each\, cocktails for $8.00 each and sodas for $3.00 each.\n\n\n\nFor full details and to purchase tickets\, go to our Taste of San Diego - East page.
X-ALT-DESC;FMTTYPE=text/html:<br />\n<span style="font-size: 16px\;"><strong>FOR FULL EVENTS DETAILS &amp\; TO PURCHASE TICKETS\, VISIT: <a href="http://lamesachamber.net/taste/">TASTE.LAMESACHAMBER.COM</a></strong></span><br />\n<br />\nNEW DATE: Monday\, August 30\, 2021<br />\n<br />\nTime: 5:00 p.m. - 8:00 p.m.<br />\n<br />\nWhere: Town and Country San Diego - 500 Hotel Circle North in Mission Valley<br />\n<br />\nCost:<br />\nVIP tasting: $60 for 3 hours of tasting from 5:00 p.m. - 8:00 p.m.<br />\nGeneral Admission $40 for 2 hours of tasting from 6:00 p.m. - 8:00 p.m.<br />\n<br />\nBeverages: Please note that ticket pricing does NOT include beverages. House wine and Domestic beers may be purchased for $6.00 each\, cocktails for $8.00 each and sodas for $3.00 each.<br />\n<br />\nFor full details and to purchase tickets\, go to our <a href="http://lamesachamber.net/taste/">Taste of San Diego - East</a> page.
LOCATION:Town and Country San Diego - 500 Hotel Circle North in Mission Valley
UID:e.460.2982
SEQUENCE:3
DTSTAMP:20260421T015055Z
URL:https://chamber.lamesachamber.net/events/details/taste-of-san-diego-east-2982
END:VEVENT

END:VCALENDAR
