BEGIN:VCALENDAR
VERSION:2.0
PRODID:-//ChamberMaster//Event Calendar 2.0//EN
METHOD:PUBLISH
X-PUBLISHED-TTL:P3D
REFRESH-INTERVAL:P3D
CALSCALE:GREGORIAN
BEGIN:VEVENT
DTSTART:20211006T003000Z
DTEND:20211006T020000Z
X-MICROSOFT-CDO-ALLDAYEVENT:FALSE
SUMMARY:Thoughtful Creations Ribbon Cutting & Evening Mixer
DESCRIPTION:On Tuesday\, October 5th you are invited to welcome Shawndie Smith and her unique business\, Thoughtful Creations. Shawndie has taken her location at 8270 La Mesa Boulevard in La Mesa and developed a collective group of local crafters\, designers and artisans to showcase their items. Visiting this location is truly one-stop shopping and all under one roof! When visiting this location you can shop for jewelry\, resin art\, personalized shirts and other clothing items\, as well as food items\, beverages and more! You will be able to enjoy samplings of delicious foods and beverages throughout the evening. Take the time to do some pre-holiday shopping.\n\n\n\nTuesday\, October 5\, 2021\n\n5:30 - 7:00 p.m.\n\n"Official" Ribbon Cutting at 6:00 p.m.\n\nSip\, snack and shop! \n\n\n\nLocation: Thoughtful Creations - 8270 La Mesa Boulevard\n\n(Park in the Union Bank trailer parking lot\, right behind the store.)\n\n\n\nDon't miss out on the festivities!\n\n\n\nThe event is FREE\, and we encourage you join us and meet this La Mesa business owner. Please RSVP to: rsvp@lamesachamber.com or click Register to the right.
X-ALT-DESC;FMTTYPE=text/html:On Tuesday\, October 5th you are invited to welcome Shawndie Smith and her unique business\, Thoughtful Creations. Shawndie has taken her location at 8270 La Mesa Boulevard in La Mesa and developed a collective group of local crafters\, designers and artisans to showcase their items. Visiting this location is truly one-stop shopping and all under one roof! When visiting this location you can shop for jewelry\, resin art\, personalized shirts and other clothing items\, as well as food items\, beverages and more! You will be able to enjoy samplings of delicious foods and beverages throughout the evening. Take the time to do some pre-holiday shopping.<br />\n<br />\nTuesday\, October 5\, 2021<br />\n5:30 - 7:00 p.m.<br />\n&ldquo\;Official&rdquo\; Ribbon Cutting at 6:00 p.m.<br />\nSip\, snack and shop!&nbsp\;<br />\n<br />\nLocation: Thoughtful Creations - 8270 La Mesa Boulevard<br />\n(Park in the Union Bank trailer parking lot\, right behind the store.)<br />\n<br />\nDon&rsquo\;t miss out on the festivities!<br />\n<br />\nThe event is FREE\, and we encourage you join us and meet this La Mesa business owner. Please RSVP to: <a href="mailto:rsvp@lamesachamber.com">rsvp@lamesachamber.com</a> or click Register to the right.
LOCATION:8270 La Mesa Boulevard
UID:e.460.3099
SEQUENCE:3
DTSTAMP:20260420T220542Z
URL:https://chamber.lamesachamber.net/events/details/thoughtful-creations-ribbon-cutting-evening-mixer-3099
END:VEVENT

END:VCALENDAR
