BEGIN:VCALENDAR
VERSION:2.0
PRODID:-//ChamberMaster//Event Calendar 2.0//EN
METHOD:PUBLISH
X-PUBLISHED-TTL:P3D
REFRESH-INTERVAL:P3D
CALSCALE:GREGORIAN
BEGIN:VEVENT
DTSTART:20211208T013000Z
DTEND:20211208T030000Z
X-MICROSOFT-CDO-ALLDAYEVENT:FALSE
SUMMARY:Toy Drive for La Mesa Military Families & Party at BJ's
DESCRIPTION:Each year the Chamber members\, friends and family donate new\, unwrapped toys and items for our La Mesa military families. We are thrilled to again coordinate this project with Lincoln Military Housing\, who facilitates holiday events for over 2\,000 military children within our region. The children living in La Mesa military housing are between the ages of 2-13 years old.\n\n\n\nWant to donate to the families but can't join us on December 7th? We are happy to accept your donations throughout this month. You can drop them off to Fran Smith\, 8080 La Mesa Blvd.\, Suite 214 in La Mesa between the hours of 11 a.m.   3 p.m. or call Mary England 619-251-7730 to coordinate her picking them up from you! We are here to help!\n\n\n\nTuesday\, December 7\, 2021 from 5:30 - 7:00 p.m.\n\n\n\nAt: BJ's Restaurant and Brewhouse - 5500 Grossmont Center Dr.\, La Mesa\, CA 91941\n\n\n\nCost:\n\nChamber Members: Complimentary with a new\, unwrapped toy\n\nNon-Members/Guests: $10 with a new\, unwrapped toy\n\nAll guests at Door fee: $20 with a new\, unwrapped toy\n\n\n\nTo RSVP\, click Register\, or email rsvp@lamesachamber.com or call 619-465-7700 ext. 2\n\n \nA SPECIAL THANK YOU TO OUR SPONSORS:\n\nPresenting Sponsor: EDCO\n\nAmerican Medical Response (AMR)\n\nAmanda Hammett Insurance & Financial Services - State Farm\n\nKirk Paving\, Inc.
X-ALT-DESC;FMTTYPE=text/html:Each year the Chamber members\, friends and family donate new\, unwrapped toys and items for our La Mesa military families. We are thrilled to again coordinate this project with Lincoln Military Housing\, who facilitates holiday events for over 2\,000 military children within our region. The children living in La Mesa military housing are between the ages of 2-13 years old.<br />\n<br />\nWant to donate to the families but can&rsquo\;t join us on December 7th? We are happy to accept your donations throughout this month. You can drop them off to Fran Smith\, 8080 La Mesa Blvd.\, Suite 214 in La Mesa between the hours of 11 a.m. &ndash\; 3 p.m. or call Mary England 619-251-7730 to coordinate her picking them up from you! We are here to help!<br />\n<br />\n<strong>Tuesday\, December 7\, 2021 from 5:30 - 7:00 p.m.<br />\n<br />\nAt: </strong>BJ&#39\;s Restaurant and Brewhouse - 5500 Grossmont Center Dr.\, La Mesa\, CA 91941<br />\n<br />\n<strong>Cost:</strong><br />\nChamber Members: Complimentary with a new\, unwrapped toy<br />\nNon-Members/Guests: $10 with a new\, unwrapped toy<br />\nAll guests at Door fee: $20 with a new\, unwrapped toy<br />\n<br />\nTo RSVP\, click <a href="https://lamesachamber.chambermaster.com/eventregistration/register/3091">Register</a>\, or email&nbsp\;<a href="mailto:rsvp@lamesachamber.com">rsvp@lamesachamber.com</a> or call 619-465-7700 ext. 2<br />\n&nbsp\;\n<div style="text-align: center\;"><strong>A SPECIAL THANK YOU TO OUR SPONSORS:<br />\nPresenting Sponsor: <a href="http://www.edcodisposal.com" target="_blank">EDCO</a></strong><br />\n<a href="https://www.amr.net/" target="_blank">American Medical Response (AMR)</a></div>\n\n<div style="text-align: center\;"><a href="http://lamesa-insurance.com" target="_blank">Amanda Hammett Insurance &amp\; Financial Services - State Farm</a><br />\n<a href="http://www.kirkpaving.us" target="_blank">Kirk Paving\, Inc.</a></div>\n
LOCATION:BJ's Restaurant and Brewhouse 5500 Grossmont Center Dr.\, La Mesa\, CA 91941
UID:e.460.3091
SEQUENCE:3
DTSTAMP:20260420T185336Z
URL:https://chamber.lamesachamber.net/events/details/toy-drive-for-la-mesa-military-families-party-at-bj-s-3091
END:VEVENT

END:VCALENDAR
