BEGIN:VCALENDAR
VERSION:2.0
PRODID:-//ChamberMaster//Event Calendar 2.0//EN
METHOD:PUBLISH
X-PUBLISHED-TTL:P3D
REFRESH-INTERVAL:P3D
CALSCALE:GREGORIAN
BEGIN:VEVENT
DTSTART:20221207T013000Z
DTEND:20221207T030000Z
X-MICROSOFT-CDO-ALLDAYEVENT:FALSE
SUMMARY:Toy Drive for La Mesa Military Families & Party at BJ's
DESCRIPTION:Each year the Chamber members\, friends and family donate new\, unwrapped toys and items for our La Mesa military families. We are thrilled to again coordinate this project with Lincoln Military Housing\, who facilitates holiday events for over 2\,000 military children within our region. The children living in La Mesa military housing are between the ages of 2-13 years old.\n\n\n\nWant to donate to the families but can't join us on December 6th? We are happy to accept your donations throughout this month. You can drop them off to Fran Smith\, 8080 La Mesa Blvd.\, Suite 214 in La Mesa between the hours of 11 a.m.   3 p.m. or call Mary England 619-251-7730 to coordinate her picking them up from you! We are here to help!\nTuesday\, December 6\, 2022 from 5:30 - 7:00 p.m.\n\n\n\nAt: BJ's Restaurant and Brewhouse\n\n5500 Grossmont Center Dr.\, La Mesa\, CA 91941\n\n\n\nCost:\n\nChamber Members: Complimentary with a new\, unwrapped toy\n\nNon-Members/Guests: $10 with a new\, unwrapped toy\n\nAll guests at Door fee: $20 with a new\, unwrapped toy\n\n\n\nTo RSVP\, click Register\, or email rsvp@lamesachamber.com or call 619-465-7700 ext. 2\n\n\n\nSPECIAL THANK YOU TO OUR SPONSORS:\n\n\n\nPresenting Sponsor:\n\nEDCO\n\n\n\nSupporting Sponsors:\n\nKirk Paving\, Inc.\n\nCabrillo Credit Union\n\n\n\nFriendship Sponsors:\n\nAmanda Hammett Insurance & Financial Services   State Farm\n\nUnion Bank
X-ALT-DESC;FMTTYPE=text/html:Each year the Chamber members\, friends and family donate new\, unwrapped toys and items for our La Mesa military families. We are thrilled to again coordinate this project with Lincoln Military Housing\, who facilitates holiday events for over 2\,000 military children within our region. The children living in La Mesa military housing are between the ages of 2-13 years old.<br />\n<br />\nWant to donate to the families but can&rsquo\;t join us on December 6th? We are happy to accept your donations throughout this month. You can drop them off to Fran Smith\, 8080 La Mesa Blvd.\, Suite 214 in La Mesa between the hours of 11 a.m. &ndash\; 3 p.m. or call Mary England 619-251-7730 to coordinate her picking them up from you! We are here to help!\n<div style="text-align: center\;"><strong>Tuesday\, December 6\, 2022 from 5:30 - 7:00 p.m.<br />\n<br />\nAt: </strong>BJ&#39\;s Restaurant and Brewhouse<br />\n5500 Grossmont Center Dr.\, La Mesa\, CA 91941<br />\n<br />\n<strong>Cost:</strong><br />\nChamber Members: Complimentary with a new\, unwrapped toy<br />\nNon-Members/Guests: $10 with a new\, unwrapped toy<br />\nAll guests at Door fee: $20 with a new\, unwrapped toy<br />\n<br />\nTo RSVP\, click <a href="https://lamesachamber.chambermaster.com/eventregistration/register/3091">Register</a>\, or email&nbsp\;<a href="mailto:rsvp@lamesachamber.com">rsvp@lamesachamber.com</a> or call 619-465-7700 ext. 2<br />\n<br />\n<strong>SPECIAL THANK YOU TO OUR SPONSORS:</strong><br />\n<br />\n<strong>Presenting Sponsor:</strong><br />\nEDCO<br />\n<br />\n<strong>Supporting Sponsors:</strong><br />\nKirk Paving\, Inc.<br />\nCabrillo Credit Union<br />\n<br />\n<strong>Friendship Sponsors:</strong><br />\nAmanda Hammett Insurance &amp\; Financial Services &ndash\; State Farm<br />\nUnion Bank</div>\n
LOCATION:BJ's Restaurant and Brewhouse 5500 Grossmont Center Dr.\, La Mesa\, CA 91941
UID:e.460.3125
SEQUENCE:3
DTSTAMP:20260419T223147Z
URL:https://chamber.lamesachamber.net/events/details/toy-drive-for-la-mesa-military-families-party-at-bj-s-3125
END:VEVENT

END:VCALENDAR
