BEGIN:VCALENDAR
VERSION:2.0
PRODID:-//ChamberMaster//Event Calendar 2.0//EN
METHOD:PUBLISH
X-PUBLISHED-TTL:P3D
REFRESH-INTERVAL:P3D
CALSCALE:GREGORIAN
BEGIN:VEVENT
DTSTART:20211031T180000Z
DTEND:20211031T200000Z
X-MICROSOFT-CDO-ALLDAYEVENT:FALSE
SUMMARY:Trick-or-Treat at Grossmont Center
DESCRIPTION:Halloween at Grossmont Center is back! Get your costumes on and bring the family out for this fun annual community event\, featuring character photo-ops\, face painting\, music\, giveaways and CANDY! Register at https://bit.ly/trickortreat_grossmontcenter to pick up an event map and complimentary pumpkin bag* at Guest Services and trick-or-treat your way around Grossmont Center!\n\n\n\n*Complimentary trick-or-treat bags are limited to registered guests\, one per child (ages 12 and under) while supplies last.
X-ALT-DESC;FMTTYPE=text/html:Halloween at Grossmont Center is back! Get your costumes on and bring the family out for this fun annual community event\, featuring character photo-ops\, face painting\, music\, giveaways and CANDY! Register at <a href="https://bit.ly/trickortreat_grossmontcenter" target="_blank">https://bit.ly/trickortreat_grossmontcenter</a> to pick up an event map and complimentary pumpkin bag* at Guest Services and trick-or-treat your way around Grossmont Center!<br />\n<br />\n*Complimentary trick-or-treat bags are limited to registered guests\, one per child (ages 12 and under) while supplies last.
LOCATION:5500 Grossmont Center Dr\, La Mesa\, CA 91942
UID:e.460.3104
SEQUENCE:3
DTSTAMP:20260420T220741Z
URL:https://chamber.lamesachamber.net/events/details/trick-or-treat-at-grossmont-center-3104
END:VEVENT

END:VCALENDAR
