BEGIN:VCALENDAR
VERSION:2.0
PRODID:-//ChamberMaster//Event Calendar 2.0//EN
METHOD:PUBLISH
X-PUBLISHED-TTL:P3D
REFRESH-INTERVAL:P3D
CALSCALE:GREGORIAN
BEGIN:VEVENT
DTSTART:20220401T200000Z
DTEND:20220401T200000Z
X-MICROSOFT-CDO-ALLDAYEVENT:FALSE
SUMMARY:Urbn Leaf - Grossmont Ribbon Cutting & Grand Opening
DESCRIPTION:Join us in welcoming Urbn Leaf's second location in La Mesa!
X-ALT-DESC;FMTTYPE=text/html:Join us in welcoming Urbn Leaf&#39\;s second location in La Mesa!
LOCATION:8939 La Mesa Blvd.\, La Mesa\, CA 91942
UID:e.460.3106
SEQUENCE:3
DTSTAMP:20260420T121903Z
URL:https://chamber.lamesachamber.net/events/details/urbn-leaf-grossmont-ribbon-cutting-grand-opening-3106
END:VEVENT

END:VCALENDAR
