BEGIN:VCALENDAR
VERSION:2.0
PRODID:-//ChamberMaster//Event Calendar 2.0//EN
METHOD:PUBLISH
X-PUBLISHED-TTL:P3D
REFRESH-INTERVAL:P3D
CALSCALE:GREGORIAN
BEGIN:VEVENT
DTSTART:20211022T003000Z
DTEND:20211022T020000Z
X-MICROSOFT-CDO-ALLDAYEVENT:FALSE
SUMMARY:West Coast Smoke & Tap House Ribbon Cutting & Evening Mixer
DESCRIPTION:Join Us and Welcome West Coast Smoke & Tap House to Our Business Community at Our Ribbon Cutting\n\n\n\nJoin us on Thursday\, October 21st and welcome West Coast Smoke and Tap House to our business community. West Coast Smoke and Tap House is your neighborhood pub serving great food\, with meal specials in addition to regular items on he menu. They pride themselves on having a rotating draft beer selection featuring some of the finest brews around. Some of the delicious menu items include: rib plates\, pork plates\, smoked brisket\, a half chicken plate\, salad\, house-made soups and more!\n\n\n\nMeet Kristina Blake and the staff to see why they are a popular addition to the La Mesa business community.  They will be serving happy hour food and beverage specials for this special night.\n\n\n\nWhen:\n\nThursday\, October 21st\n\n\n\nTime:\n\n5:30 p.m. - 7:00 p.m.\n\n"Official" Ribbon Cutting at 6:00 p.m.\n\n\n\nWest Coast Smoke & Tap House\n\n6126 Lake Murray Blvd.\n\nLa Mesa\, CA 91942\n\n\n\nDon't miss this opportunity to say hello and sample some great food and brew at Happy Hour prices! Please RSVP to: rsvp@lamesachamber.com or click Register to the right.
X-ALT-DESC;FMTTYPE=text/html:Join Us and Welcome&nbsp\;<a href="http://www.westcoastsmokeandtaphouse.com" target="_blank">West Coast Smoke &amp\; Tap House</a>&nbsp\;to Our Business Community at Our Ribbon Cutting<br />\n<br />\nJoin us on Thursday\, October 21st and welcome West Coast Smoke and Tap House to our business community. West Coast Smoke and Tap House is your neighborhood pub serving great food\, with meal specials in addition to regular items on he menu. They pride themselves on having a rotating draft beer selection featuring some of the finest brews around. Some of the delicious menu items include: rib plates\, pork plates\, smoked brisket\, a half chicken plate\, salad\, house-made soups and more!<br />\n<br />\nMeet Kristina Blake and the staff to see why they are a popular addition to the La Mesa business community.&nbsp\; They will be serving happy hour food and beverage specials for this special night.<br />\n<br />\nWhen:<br />\nThursday\, October 21st<br />\n<br />\nTime:<br />\n5:30 p.m. - 7:00 p.m.<br />\n&ldquo\;Official&rdquo\; Ribbon Cutting at 6:00 p.m.<br />\n<br />\nWest Coast Smoke &amp\; Tap House<br />\n6126 Lake Murray Blvd.<br />\nLa Mesa\, CA 91942<br />\n<br />\nDon&rsquo\;t miss this opportunity to say hello and sample some great food and brew at Happy Hour prices!&nbsp\;Please RSVP to: <a href="mailto:rsvp@lamesachamber.com">rsvp@lamesachamber.com</a> or click Register to the right.
LOCATION:West Coast Smoke & Tap House 6126 Lake Murray Blvd. La Mesa\, CA 91942
UID:e.460.3098
SEQUENCE:3
DTSTAMP:20260420T221054Z
URL:https://chamber.lamesachamber.net/events/details/west-coast-smoke-tap-house-ribbon-cutting-evening-mixer-3098
END:VEVENT

END:VCALENDAR
